BEGIN:VCALENDAR
VERSION:2.0
PRODID:-//Talk of Toronto - ECPv6.15.20//NONSGML v1.0//EN
CALSCALE:GREGORIAN
METHOD:PUBLISH
X-WR-CALNAME:Talk of Toronto
X-ORIGINAL-URL:https://talkoftoronto.ca
X-WR-CALDESC:Events for Talk of Toronto
REFRESH-INTERVAL;VALUE=DURATION:PT1H
X-Robots-Tag:noindex
X-PUBLISHED-TTL:PT1H
BEGIN:VTIMEZONE
TZID:America/Toronto
BEGIN:DAYLIGHT
TZOFFSETFROM:-0500
TZOFFSETTO:-0400
TZNAME:EDT
DTSTART:20240310T070000
END:DAYLIGHT
BEGIN:STANDARD
TZOFFSETFROM:-0400
TZOFFSETTO:-0500
TZNAME:EST
DTSTART:20241103T060000
END:STANDARD
BEGIN:DAYLIGHT
TZOFFSETFROM:-0500
TZOFFSETTO:-0400
TZNAME:EDT
DTSTART:20250309T070000
END:DAYLIGHT
BEGIN:STANDARD
TZOFFSETFROM:-0400
TZOFFSETTO:-0500
TZNAME:EST
DTSTART:20251102T060000
END:STANDARD
BEGIN:DAYLIGHT
TZOFFSETFROM:-0500
TZOFFSETTO:-0400
TZNAME:EDT
DTSTART:20260308T070000
END:DAYLIGHT
BEGIN:STANDARD
TZOFFSETFROM:-0400
TZOFFSETTO:-0500
TZNAME:EST
DTSTART:20261101T060000
END:STANDARD
END:VTIMEZONE
BEGIN:VEVENT
DTSTART;TZID=America/Toronto:20250630T210000
DTEND;TZID=America/Toronto:20250701T030000
DTSTAMP:20260424T023756
CREATED:20250605T232554Z
LAST-MODIFIED:20250608T212043Z
UID:58055-1751317200-1751338800@talkoftoronto.ca
SUMMARY:Junior Jones .. "All White Summer Night"
DESCRIPTION:Talk of Toronto Featured Event: \nJunior Jones Presents… “ALL WHITE SUMMER NIGHT 2025”\n📅 Monday\, June 30\, 2025⏰ 9:00 PM – 3:00 AM📍 REBEL – 11 Polson Street\, Toronto\, ONCanada Day Long Weekend | No Work TuesdayMANDATORY: All White Attire – Sexy & Stylish Only \nJunior Jones brings back the return of an iconic summer tradition.Toronto’s most talked-about long weekend party is back — and it’s about to be another exclusive all-white experience you won’t want to miss. \nALL WHITE SUMMER NIGHT 2025 is set to light up Canada Day Long Weekend with high energy\, beautiful people\, waterfront views\, and unforgettable vibes. We’re taking over the legendary REBEL Nightclub\, with both indoor and outdoor spaces\, for a full-sensory experience under the summer stars. \n🎟️ TICKETS & VIP BOOTHS AVAILABLE NOW\nStart putting together your crispest all-white outfit\, rally your crew\, and get ready for a night of champagne toasts\, dancing\, and pure celebration. \n \nWhether you’re on the patio or under the lights\, this is where Toronto celebrates Canada Day in style. \nFollow @juniorjonesgroup and @talkoftoronto for exclusive updates. \n\n#AllWhiteSummerNight #CanadaDay #LongWeekend #JuniorJonesGroup #TorontoEvents #AllWhiteParty2025
URL:https://talkoftoronto.ca/event/all-white-summer-night-toronto-2025/
LOCATION:Rebel Nightclub\, 11 Polson St.\, Toronto\, Ontario\, Canada
CATEGORIES:Afro Beats,Hip Hop,Reggae & Dancehall
ATTACH;FMTTYPE=image/jpeg:https://talkoftoronto.ca/wp-content/uploads/2025/06/ALL-WHITE-SUMMER-NIGHT-2025-Toronto-Nightlife.jpg
END:VEVENT
END:VCALENDAR