BEGIN:VCALENDAR
VERSION:2.0
PRODID:-//Talk of Toronto - ECPv6.15.20//NONSGML v1.0//EN
CALSCALE:GREGORIAN
METHOD:PUBLISH
X-WR-CALNAME:Talk of Toronto
X-ORIGINAL-URL:https://talkoftoronto.ca
X-WR-CALDESC:Events for Talk of Toronto
REFRESH-INTERVAL;VALUE=DURATION:PT1H
X-Robots-Tag:noindex
X-PUBLISHED-TTL:PT1H
BEGIN:VTIMEZONE
TZID:America/Toronto
BEGIN:DAYLIGHT
TZOFFSETFROM:-0500
TZOFFSETTO:-0400
TZNAME:EDT
DTSTART:20240310T070000
END:DAYLIGHT
BEGIN:STANDARD
TZOFFSETFROM:-0400
TZOFFSETTO:-0500
TZNAME:EST
DTSTART:20241103T060000
END:STANDARD
BEGIN:DAYLIGHT
TZOFFSETFROM:-0500
TZOFFSETTO:-0400
TZNAME:EDT
DTSTART:20250309T070000
END:DAYLIGHT
BEGIN:STANDARD
TZOFFSETFROM:-0400
TZOFFSETTO:-0500
TZNAME:EST
DTSTART:20251102T060000
END:STANDARD
BEGIN:DAYLIGHT
TZOFFSETFROM:-0500
TZOFFSETTO:-0400
TZNAME:EDT
DTSTART:20260308T070000
END:DAYLIGHT
BEGIN:STANDARD
TZOFFSETFROM:-0400
TZOFFSETTO:-0500
TZNAME:EST
DTSTART:20261101T060000
END:STANDARD
END:VTIMEZONE
BEGIN:VEVENT
DTSTART;TZID=America/Toronto:20251217T203000
DTEND;TZID=America/Toronto:20251218T233000
DTSTAMP:20260424T081221
CREATED:20250912T032003Z
LAST-MODIFIED:20250923T200702Z
UID:59298-1766003400-1766100600@talkoftoronto.ca
SUMMARY:Burna Boy Live in Concert — No Sign of Weakness Tour - Toronto
DESCRIPTION:🎶 Toronto Featured Concert Event: Burna Boy — No Sign of Weakness Tour \nSomething powerful is coming—Burna Boy brings his chart-topping No Sign of Weakness Tour to Toronto for a night of Afrobeats\, energy\, and unforgettable stage presence. \n\n🗓️ When & Where\nDate: Wednesday\, December 17\, 2025 & Thursday\, December 18\, 2025\nShow begins at 8:30 PM\nVenue: Scotiabank Arena\, Toronto\, ON \n\n✨ About the Show \n\nBringing tracks from his newly released album No Sign of Weakness\, including fan favorites and new hits.\nTour features immersive stage design\, including a 360° setup for many shows\, creating an immersive concert vibe.\nOne of two big Toronto dates\, making this a must-see evening for fans of Afrobeats.\n\n\n🎟️ Tickets & Access \n\nMultiple ticket levels available: general admission\, premium seatings\, VIP options.\nDigital/mobile ticketing required at entry.\nDoors open in advance of showtime—arriving early helps beat queues and ensures the best experience.\n\nDAY 1 TICKETS – Wednesday December 17th\, 2025 – 8:30pm\n \nDAY 2 TICKETS – Thursday December 18th\, 2025 – 8:30pm\n \n\n🌟 Why You Should Go \n\nBurna Boy’s performances are immersive and full of high energy; this tour is one of his most ambitious yet.\nExperience live renditions of songs from No Sign of Weakness\, an album praised for its emotional depth and genre-blurring sound.\nA rare chance to see global talent on a large scale stage right in Toronto.\n\n\n✅ Talk of Toronto Tips for Attendees \n\nUse transit or rideshare if possible\, to avoid downtown traffic and parking limitations.\nBring valid photo ID; check any age restrictions or special sections (VIP or premium) in your ticket.\nDress comfortably but stylish—expect an exciting\, high-energy show.
URL:https://talkoftoronto.ca/event/burna-boy-live-in-concert-no-sign-of-weakness-tour-toronto/
LOCATION:Scotiabank Arena\, 50 Bay Street\, Suite 500\, Toronto\, Ontario\, M5J 2L2\, Canada
CATEGORIES:Afro Beats,Concerts & Live Music
ATTACH;FMTTYPE=image/webp:https://talkoftoronto.ca/wp-content/uploads/2025/09/burnaboy-2025-Toronto-Concert-Afrobeats-ScotiaBankArena-1000x500-1.webp
END:VEVENT
END:VCALENDAR