BEGIN:VCALENDAR
VERSION:2.0
PRODID:-//Talk of Toronto - ECPv6.15.20//NONSGML v1.0//EN
CALSCALE:GREGORIAN
METHOD:PUBLISH
X-WR-CALNAME:Talk of Toronto
X-ORIGINAL-URL:https://talkoftoronto.ca
X-WR-CALDESC:Events for Talk of Toronto
REFRESH-INTERVAL;VALUE=DURATION:PT1H
X-Robots-Tag:noindex
X-PUBLISHED-TTL:PT1H
BEGIN:VTIMEZONE
TZID:America/Toronto
BEGIN:DAYLIGHT
TZOFFSETFROM:-0500
TZOFFSETTO:-0400
TZNAME:EDT
DTSTART:20240310T070000
END:DAYLIGHT
BEGIN:STANDARD
TZOFFSETFROM:-0400
TZOFFSETTO:-0500
TZNAME:EST
DTSTART:20241103T060000
END:STANDARD
BEGIN:DAYLIGHT
TZOFFSETFROM:-0500
TZOFFSETTO:-0400
TZNAME:EDT
DTSTART:20250309T070000
END:DAYLIGHT
BEGIN:STANDARD
TZOFFSETFROM:-0400
TZOFFSETTO:-0500
TZNAME:EST
DTSTART:20251102T060000
END:STANDARD
BEGIN:DAYLIGHT
TZOFFSETFROM:-0500
TZOFFSETTO:-0400
TZNAME:EDT
DTSTART:20260308T070000
END:DAYLIGHT
BEGIN:STANDARD
TZOFFSETFROM:-0400
TZOFFSETTO:-0500
TZNAME:EST
DTSTART:20261101T060000
END:STANDARD
END:VTIMEZONE
BEGIN:VEVENT
DTSTART;TZID=America/Toronto:20250820T190000
DTEND;TZID=America/Toronto:20250820T233000
DTSTAMP:20260424T161629
CREATED:20250805T203649Z
LAST-MODIFIED:20250805T203649Z
UID:58371-1755716400-1755732600@talkoftoronto.ca
SUMMARY:Chris Brown Concert in Toronto: Breezy Bowl XX
DESCRIPTION:Chris Brown Concert in Toronto\n \nDates: \n\nTuesday\, August 19\, 2025 – 7:00 PM (SOLD OUT)\nWednesday\, August 20\, 2025 – 7:00 PM\n\nVenue: Rogers Stadium (Toronto\, ON) — newly opened open-air venue with a 50\,000‑seat capacity at Downsview Par \nTour: Part of Chris Brown’s Breezy Bowl XX Stadium World Tour\, celebrating the 20th anniversary of his debut album\, with support from Summer Walker and Bryson Tiller during North American shows \n\n🔥 Why You Can’t Miss This\n\nIconic setlist spanning hits like Run It!\, No Guidance\, and more.\nSupport from Summer Walker & Bryson Tiller\, joining for the Toronto leg\nA massive concert experience at Toronto’s biggest new music venue\, Rogers Stadium\n\n\n🎟️ Ticket Info & Pricing\n\nTickets are available now via Ticketmaster\, starting from approximately CAD $60–$80 for the Toronto shows\nPresales began April 1\, general sales opened April 3—the demand is high\, so act fast\n\n\n📋 Event Details Summary\n\n\n\nDetail\nInfo\n\n\n\n\nArtist\nChris Brown\n\n\nTour\nBreezy Bowl XX\n\n\nSupport Acts\nSummer Walker\, Bryson Tiller\n\n\nDates\nAug 19 & Aug 20\, 2025 at 7 PM\n\n\nVenue\nRogers Stadium\, Toronto\, ON\n\n\nDoors Open\nTypically ~1 hour before show time\n\n\nTicket Range\nApprox. CAD $60–80+\n\n\nPurchase Via\nTicketmaster & Live Nation networks\n\n\n\n 
URL:https://talkoftoronto.ca/event/chris-brown-concert-in-toronto-breezy-bowl-xx/
LOCATION:Rogers Stadium\, 105 Carl Hall Road\, Toronto\, Ontario\, ToM3K0A1\, Canada
ATTACH;FMTTYPE=image/jpeg:https://talkoftoronto.ca/wp-content/uploads/2025/08/Chris-Brown-Concert-in-Toronto-2025.jpg
END:VEVENT
END:VCALENDAR