BEGIN:VCALENDAR
VERSION:2.0
PRODID:-//Talk of Toronto - ECPv6.15.20//NONSGML v1.0//EN
CALSCALE:GREGORIAN
METHOD:PUBLISH
X-WR-CALNAME:Talk of Toronto
X-ORIGINAL-URL:https://talkoftoronto.ca
X-WR-CALDESC:Events for Talk of Toronto
REFRESH-INTERVAL;VALUE=DURATION:PT1H
X-Robots-Tag:noindex
X-PUBLISHED-TTL:PT1H
BEGIN:VTIMEZONE
TZID:America/Toronto
BEGIN:DAYLIGHT
TZOFFSETFROM:-0500
TZOFFSETTO:-0400
TZNAME:EDT
DTSTART:20240310T070000
END:DAYLIGHT
BEGIN:STANDARD
TZOFFSETFROM:-0400
TZOFFSETTO:-0500
TZNAME:EST
DTSTART:20241103T060000
END:STANDARD
BEGIN:DAYLIGHT
TZOFFSETFROM:-0500
TZOFFSETTO:-0400
TZNAME:EDT
DTSTART:20250309T070000
END:DAYLIGHT
BEGIN:STANDARD
TZOFFSETFROM:-0400
TZOFFSETTO:-0500
TZNAME:EST
DTSTART:20251102T060000
END:STANDARD
BEGIN:DAYLIGHT
TZOFFSETFROM:-0500
TZOFFSETTO:-0400
TZNAME:EDT
DTSTART:20260308T070000
END:DAYLIGHT
BEGIN:STANDARD
TZOFFSETFROM:-0400
TZOFFSETTO:-0500
TZNAME:EST
DTSTART:20261101T060000
END:STANDARD
END:VTIMEZONE
BEGIN:VEVENT
DTSTART;TZID=America/Toronto:20250117T220000
DTEND;TZID=America/Toronto:20250118T023000
DTSTAMP:20260423T195805
CREATED:20250102T044618Z
LAST-MODIFIED:20250102T044808Z
UID:57004-1737151200-1737167400@talkoftoronto.ca
SUMMARY:DANCEHALL VS SOCA - TORONTO WINTER CLASH 2025
DESCRIPTION:Talk of Toronto Featured Event 🔥 DANCEHALL VS SOCA: WINTER CLASH 🔥\nPowered by T.M.T & DJ Wiseguy \n📅 Date: Friday\, January 17th\, 2025\n📍 Location: 504 Simcoe St S\n🕙 Time: 10:00 PM – 2:30 AM \n🎶 The Ultimate Battle of the Genres 🎶 \nTEAM DANCEHALL 🏆 \n\nDJ Lindo P\nBlack Reaction\n\nTEAM SOCA 🎉 \n\nSoca Sweetness\nD’Enfocas\n\n💥 Tickets: \n\nLimited Early Bird & Group Tickets\n$30 at the door\n\n🎂 Capricorn Celebration:\nCelebrate your birthday in style! 🎉 Packages starting at $210 (Standard to Premium).\nPerks include: Entry\, Custom Lit Sign\, VIP Booth\, Line Bypass\, and more!\n👉 Use code DVS when booking! \n📣 Don’t miss this epic winter clash of rhythms and vibes! \n#DancehallVsSoca #WinterClash2025
URL:https://talkoftoronto.ca/event/dancehall-vs-soca-toronto-winter-clash-2025/
LOCATION:504 Simcoe Bar\, 504 Simcoe Street South\, Oshawa\, Ontario\, Canada
CATEGORIES:Reggae & Dancehall,Soca
ATTACH;FMTTYPE=image/jpeg:https://talkoftoronto.ca/wp-content/uploads/2025/01/Dancehall-vs-soca-toronto-party-fete-events-parites-2025.jpg
END:VEVENT
END:VCALENDAR