BEGIN:VCALENDAR
VERSION:2.0
PRODID:-//Talk of Toronto - ECPv6.15.20//NONSGML v1.0//EN
CALSCALE:GREGORIAN
METHOD:PUBLISH
X-WR-CALNAME:Talk of Toronto
X-ORIGINAL-URL:https://talkoftoronto.ca
X-WR-CALDESC:Events for Talk of Toronto
REFRESH-INTERVAL;VALUE=DURATION:PT1H
X-Robots-Tag:noindex
X-PUBLISHED-TTL:PT1H
BEGIN:VTIMEZONE
TZID:America/Toronto
BEGIN:DAYLIGHT
TZOFFSETFROM:-0500
TZOFFSETTO:-0400
TZNAME:EDT
DTSTART:20240310T070000
END:DAYLIGHT
BEGIN:STANDARD
TZOFFSETFROM:-0400
TZOFFSETTO:-0500
TZNAME:EST
DTSTART:20241103T060000
END:STANDARD
BEGIN:DAYLIGHT
TZOFFSETFROM:-0500
TZOFFSETTO:-0400
TZNAME:EDT
DTSTART:20250309T070000
END:DAYLIGHT
BEGIN:STANDARD
TZOFFSETFROM:-0400
TZOFFSETTO:-0500
TZNAME:EST
DTSTART:20251102T060000
END:STANDARD
BEGIN:DAYLIGHT
TZOFFSETFROM:-0500
TZOFFSETTO:-0400
TZNAME:EDT
DTSTART:20260308T070000
END:DAYLIGHT
BEGIN:STANDARD
TZOFFSETFROM:-0400
TZOFFSETTO:-0500
TZNAME:EST
DTSTART:20261101T060000
END:STANDARD
END:VTIMEZONE
BEGIN:VEVENT
DTSTART;TZID=America/Toronto:20250221T220000
DTEND;TZID=America/Toronto:20250222T030000
DTSTAMP:20260423T195256
CREATED:20250217T183253Z
LAST-MODIFIED:20250217T183449Z
UID:57695-1740175200-1740193200@talkoftoronto.ca
SUMMARY:DANCEHALL VS SOCA "WINTER FETE" 2025
DESCRIPTION:Talk of Toronto Featured Event \nDancehall vs Soca Winter Fête\n🔥 The ultimate winter bash is here! Dancehall meets Soca for a night of high-energy vibes and nonstop riddims. \n📅 Friday\, February 21📍 504 Bar – 504 Simcoe St S \n🎧 Music by:🔹 DJ WISEGUY🔹 DJ WHITEBWOY🔹 DJ SOCA SWEETNESS🔹 DJ LINDO P \n🎉 Special Celebration:Honoring Shy’s Entertainment Birthday!Aquarius & Pisces—this is your time to shine! Book your All-In Birthday Package today: ☎️ 365-886-1504 \n🎟 Tickets:✅ $10 Early Bird (Limited)✅ 2 for $15 Special🚪 $25 at the Door \n \n👗 Style Code in Effect (Dress to impress!)🧥 Mandatory Coat Check💵 Cash Only Bar \n🚨 Mature Clientele | R.O.A.R Policy (Zero Tolerance) \n🎶 Get ready for a night of unforgettable energy! Secure your spot before tickets sell out!
URL:https://talkoftoronto.ca/event/dancehall-vs-soca-winter-fete-2025/
LOCATION:504 Simcoe Bar\, 504 Simcoe Street South\, Oshawa\, Ontario\, Canada
CATEGORIES:Reggae & Dancehall,Soca
ATTACH;FMTTYPE=image/jpeg:https://talkoftoronto.ca/wp-content/uploads/2025/02/DANCEHALL-VS-SOCA-WINTER-FETE-2025.jpg
END:VEVENT
END:VCALENDAR