BEGIN:VCALENDAR
VERSION:2.0
PRODID:-//Talk of Toronto - ECPv6.15.20//NONSGML v1.0//EN
CALSCALE:GREGORIAN
METHOD:PUBLISH
X-WR-CALNAME:Talk of Toronto
X-ORIGINAL-URL:https://talkoftoronto.ca
X-WR-CALDESC:Events for Talk of Toronto
REFRESH-INTERVAL;VALUE=DURATION:PT1H
X-Robots-Tag:noindex
X-PUBLISHED-TTL:PT1H
BEGIN:VTIMEZONE
TZID:America/Toronto
BEGIN:DAYLIGHT
TZOFFSETFROM:-0500
TZOFFSETTO:-0400
TZNAME:EDT
DTSTART:20240310T070000
END:DAYLIGHT
BEGIN:STANDARD
TZOFFSETFROM:-0400
TZOFFSETTO:-0500
TZNAME:EST
DTSTART:20241103T060000
END:STANDARD
BEGIN:DAYLIGHT
TZOFFSETFROM:-0500
TZOFFSETTO:-0400
TZNAME:EDT
DTSTART:20250309T070000
END:DAYLIGHT
BEGIN:STANDARD
TZOFFSETFROM:-0400
TZOFFSETTO:-0500
TZNAME:EST
DTSTART:20251102T060000
END:STANDARD
BEGIN:DAYLIGHT
TZOFFSETFROM:-0500
TZOFFSETTO:-0400
TZNAME:EDT
DTSTART:20260308T070000
END:DAYLIGHT
BEGIN:STANDARD
TZOFFSETFROM:-0400
TZOFFSETTO:-0500
TZNAME:EST
DTSTART:20261101T060000
END:STANDARD
END:VTIMEZONE
BEGIN:VEVENT
DTSTART;TZID=America/Toronto:20250214T223000
DTEND;TZID=America/Toronto:20250215T033000
DTSTAMP:20260423T200611
CREATED:20250101T044840Z
LAST-MODIFIED:20250206T030338Z
UID:56614-1739572200-1739590200@talkoftoronto.ca
SUMMARY:DCAL 2025 – The 30th Annual Doh Cry Ah Leavin’
DESCRIPTION:Talk of Toronto Featured Event “DCAL 2025” – The 30th Annual Doh Cry Ah Leavin’\n📅 Date: Friday\, February 14\, 2025\n⏰ Time: 10:30 PM – 3:30 AM\n📍 Location: Rebel\, 11 Polson Street\, Downtown Toronto \nDr. Jay De Soca Prince Presents… DCAL 2025 – \nDoh Cry Ah Leavin’ – Valentine’s Day Edition\nThe Fete You Love\, On the Day of Love! \nCelebrate 30 years of an iconic tradition with the 30th Annual Doh Cry Ah Leavin’ (DCAL XXX)! Join us at Rebel for the ultimate las lap before Trinidad Carnival. \n\nWhat to Expect\n🔥 International DJs & Artists delivering non-stop vibes\n🔥 The Ultimate Las Lap Experience before Carnival\n🔥 A Sold-Out Tradition Since 1995 \n\n \nEvent Details\n💃 Dress to Fete: Show up in your Carnival-ready best!\n📸 Photo ID Required (19+ event)\n🧥 Coat Check Available \nDon’t miss out on Toronto’s most anticipated Carnival warm-up. Rebel is the place to be for unmatched energy\, vibes\, and celebration! \n\n🎟️ Get Your Tickets Early!\nThis event has been sold out at every venue since 1995—secure your spot now! \n#DCALXXX\nThe Fete You Love\, On the Day of Love.
URL:https://talkoftoronto.ca/event/dcal-annual-doh-cry-ah-leavin-toronto-soca-fete-event/
LOCATION:Rebel Nightclub\, 11 Polson St.\, Toronto\, Ontario\, Canada
CATEGORIES:Soca
ATTACH;FMTTYPE=image/jpeg:https://talkoftoronto.ca/wp-content/uploads/2024/12/DCAL-XXX-30th-annual-Doh-Cry-Ah-Leavin-Dr-Jay-Soca-Prince-Toronto-Soca-Events-Fete-Party-2025.jpg
END:VEVENT
END:VCALENDAR