BEGIN:VCALENDAR
VERSION:2.0
PRODID:-//Talk of Toronto - ECPv6.15.20//NONSGML v1.0//EN
CALSCALE:GREGORIAN
METHOD:PUBLISH
X-WR-CALNAME:Talk of Toronto
X-ORIGINAL-URL:https://talkoftoronto.ca
X-WR-CALDESC:Events for Talk of Toronto
REFRESH-INTERVAL;VALUE=DURATION:PT1H
X-Robots-Tag:noindex
X-PUBLISHED-TTL:PT1H
BEGIN:VTIMEZONE
TZID:America/Toronto
BEGIN:DAYLIGHT
TZOFFSETFROM:-0500
TZOFFSETTO:-0400
TZNAME:EDT
DTSTART:20230312T070000
END:DAYLIGHT
BEGIN:STANDARD
TZOFFSETFROM:-0400
TZOFFSETTO:-0500
TZNAME:EST
DTSTART:20231105T060000
END:STANDARD
BEGIN:DAYLIGHT
TZOFFSETFROM:-0500
TZOFFSETTO:-0400
TZNAME:EDT
DTSTART:20240310T070000
END:DAYLIGHT
BEGIN:STANDARD
TZOFFSETFROM:-0400
TZOFFSETTO:-0500
TZNAME:EST
DTSTART:20241103T060000
END:STANDARD
BEGIN:DAYLIGHT
TZOFFSETFROM:-0500
TZOFFSETTO:-0400
TZNAME:EDT
DTSTART:20250309T070000
END:DAYLIGHT
BEGIN:STANDARD
TZOFFSETFROM:-0400
TZOFFSETTO:-0500
TZNAME:EST
DTSTART:20251102T060000
END:STANDARD
END:VTIMEZONE
BEGIN:VEVENT
DTSTART;TZID=America/Toronto:20240928T220000
DTEND;TZID=America/Toronto:20240929T020000
DTSTAMP:20260424T050407
CREATED:20240908T212811Z
LAST-MODIFIED:20240908T214139Z
UID:56179-1727560800-1727575200@talkoftoronto.ca
SUMMARY:DJ Diesel: Shaquille O'Neal is coming to Rebel!
DESCRIPTION:Talk of Toronto Featured Event: DJ Diesel – Shaquille O’Neal Live at Rebel Nightclub!\nDate: Saturday\, September 28\, 2024\nVenue: Rebel Nightclub\, 11 Polson Pier\, Toronto\nDoors Open: 10:00 PM\nAge Restriction: 19+ (Valid Photo ID Required) \n\nShaquille O’Neal\, aka DJ Diesel\, is Coming to Toronto!\nGet ready for one of the most electrifying events of the year as NBA legend Shaquille O’Neal\, also known as DJ Diesel\, brings his larger-than-life energy to Rebel Nightclub for his Toronto debut! Known for his iconic presence on the basketball court\, Shaq has taken the music world by storm with his commanding DJ sets that blend high-energy beats\, epic remixes\, and a vibe that’s impossible to resist. \nAs DJ Diesel\, Shaq has performed at some of the biggest music festivals around the world\, and now he’s ready to take over Toronto’s Rebel Nightclub on September 28\, 2024. This is a night you don’t want to miss! \n\nWhat to Expect:\n🎧 DJ Diesel’s Legendary Performance – Shaq’s signature mixes and hard-hitting beats will have the crowd moving from start to finish. \n💥 Massive Sound & Lighting – Experience the state-of-the-art production Rebel is known for\, with pulsating rhythms that match the energy of the night. \n🌃 Toronto’s Premier Venue – Rebel Nightclub\, situated at 11 Polson Pier\, offers stunning views of the city skyline and a dynamic party atmosphere that’s perfect for this unforgettable event. \n\nSecure Your Tickets Now!\nThis is a 19+ event\, so make sure to bring valid photo ID. Don’t miss your chance to see one of the world’s biggest names in sports and entertainment transform into DJ Diesel\, delivering an unforgettable night of music and fun! \n \nTickets: https://www.ticketweb.ca/event/dj-diesel-aka-shaquille-oneal-rebel-tickets/13865433?pl=ink \nBottle Service: https://rebeltoronto.com/bottleservice/ \n\nEvent Summary Details:\n📍 Location: Rebel Nightclub\, 11 Polson Pier\, Toronto\n📅 Date: Saturday\, September 28\, 2024\n🕙 Doors Open: 10:00 PM\n🔞 Age Restriction: 19+ (Valid ID Required) \nFollow Talk of Toronto for updates and more featured events! \n 
URL:https://talkoftoronto.ca/event/dj-diesel-shaquille-oneal-is-coming-to-rebel/
LOCATION:Rebel Nightclub\, 11 Polson St.\, Toronto\, Ontario\, Canada
CATEGORIES:Hip Hop,House
ATTACH;FMTTYPE=image/jpeg:https://talkoftoronto.ca/wp-content/uploads/2024/09/DJ-Diesel-Shaquille-ONeal-is-coming-to-Rebel-Sept-28.jpg
END:VEVENT
END:VCALENDAR