BEGIN:VCALENDAR
VERSION:2.0
PRODID:-//Talk of Toronto - ECPv6.15.20//NONSGML v1.0//EN
CALSCALE:GREGORIAN
METHOD:PUBLISH
X-WR-CALNAME:Talk of Toronto
X-ORIGINAL-URL:https://talkoftoronto.ca
X-WR-CALDESC:Events for Talk of Toronto
REFRESH-INTERVAL;VALUE=DURATION:PT1H
X-Robots-Tag:noindex
X-PUBLISHED-TTL:PT1H
BEGIN:VTIMEZONE
TZID:America/Toronto
BEGIN:DAYLIGHT
TZOFFSETFROM:-0500
TZOFFSETTO:-0400
TZNAME:EDT
DTSTART:20240310T070000
END:DAYLIGHT
BEGIN:STANDARD
TZOFFSETFROM:-0400
TZOFFSETTO:-0500
TZNAME:EST
DTSTART:20241103T060000
END:STANDARD
BEGIN:DAYLIGHT
TZOFFSETFROM:-0500
TZOFFSETTO:-0400
TZNAME:EDT
DTSTART:20250309T070000
END:DAYLIGHT
BEGIN:STANDARD
TZOFFSETFROM:-0400
TZOFFSETTO:-0500
TZNAME:EST
DTSTART:20251102T060000
END:STANDARD
BEGIN:DAYLIGHT
TZOFFSETFROM:-0500
TZOFFSETTO:-0400
TZNAME:EDT
DTSTART:20260308T070000
END:DAYLIGHT
BEGIN:STANDARD
TZOFFSETFROM:-0400
TZOFFSETTO:-0500
TZNAME:EST
DTSTART:20261101T060000
END:STANDARD
END:VTIMEZONE
BEGIN:VEVENT
DTSTART;TZID=America/Toronto:20251004T130000
DTEND;TZID=America/Toronto:20251004T180000
DTSTAMP:20260424T144536
CREATED:20250829T034151Z
LAST-MODIFIED:20250925T051853Z
UID:58999-1759582800-1759600800@talkoftoronto.ca
SUMMARY:DJ Private Ryan presents SOCA BABY Toronto
DESCRIPTION:🎉 DJ Private Ryan Presents: SOCA BABY Toronto\nDate: Saturday\, October 4th\, 2025🕐 1:00 PM – 6:00 PM📍 Enterprise 2000 – 176 Cherry Street\, Toronto\, ON\, M5A 1A4🔞 19+ Event | Mature\, Young Professionals\, University/College \n\n🔊 The Ultimate Daytime Soca Experience\nToronto—get ready to feel the rhythm! Internationally acclaimed DJ Private Ryan brings his signature event SOCA BABY to the 6ix for an afternoon filled with pure island energy. This special event promises an authentic Soca experience\, uniting carnival lovers\, fete enthusiasts\, and soca babies at heart. \n\n🎶 The Music\nFrom sunrise vibes to road march anthems\, SOCA BABY is dedicated to one thing: Soca in every form. Expect nonstop energy\, heavy riddims\, and the biggest Soca tunes from the Caribbean to Toronto’s own Carnival culture. \n\n🏙️ The Venue – Enterprise 2000\nLocated at 176 Cherry Street\, Enterprise 2000 features two indoor floors designed for high-energy parties. With its expansive layout\, premium bars\, and immersive sound\, it’s the perfect home for Toronto’s Soca movement. \n\n👕 Dress Code\n\n\nCasual & Fashion Forward Encouraged \n\n\nNo grey tracks \n\n\nSleeves required for menBring your energy\, your colors\, and your vibes—leave the dull fits at home. \n\n\n\n📌 Event Details at a Glance\n\n\nDate: Saturday\, October 4th\, 2025 \n\n\nTime: 1:00 PM – 6:00 PM \n\n\nVenue: Enterprise 2000 (176 Cherry Street\, Toronto\, ON\, M5A 1A4) \n\n\nAge: 19+ (Valid Government ID Required) \n\n\nDress Code: Casual / Fashion Forward (No grey tracks\, sleeves required for men) \n\n\nMusic: 100% SOCA – Daytime Energy\, Carnival Spirit \n\n\nLayout: 2 Indoor Floors \n\n\n\n🔥 Toronto\, if Soca is life\, this is your event. Don’t miss the chance to fete with DJ Private Ryan and the Soca family for a one-of-a-kind daytime celebration.
URL:https://talkoftoronto.ca/event/dj-private-ryan-presents-soca-baby-toronto-2025/
LOCATION:Enterprise 2000\, 222 Cherry Street\, Toronto\, Ontario\, Canada
CATEGORIES:Soca
ATTACH;FMTTYPE=image/jpeg:https://talkoftoronto.ca/wp-content/uploads/2025/08/Soca-Baby-toronto-private-ryan-fete-boat-ride-event.jpg
END:VEVENT
END:VCALENDAR