BEGIN:VCALENDAR
VERSION:2.0
PRODID:-//Talk of Toronto - ECPv6.15.20//NONSGML v1.0//EN
CALSCALE:GREGORIAN
METHOD:PUBLISH
X-WR-CALNAME:Talk of Toronto
X-ORIGINAL-URL:https://talkoftoronto.ca
X-WR-CALDESC:Events for Talk of Toronto
REFRESH-INTERVAL;VALUE=DURATION:PT1H
X-Robots-Tag:noindex
X-PUBLISHED-TTL:PT1H
BEGIN:VTIMEZONE
TZID:America/Toronto
BEGIN:DAYLIGHT
TZOFFSETFROM:-0500
TZOFFSETTO:-0400
TZNAME:EDT
DTSTART:20250309T070000
END:DAYLIGHT
BEGIN:STANDARD
TZOFFSETFROM:-0400
TZOFFSETTO:-0500
TZNAME:EST
DTSTART:20251102T060000
END:STANDARD
BEGIN:DAYLIGHT
TZOFFSETFROM:-0500
TZOFFSETTO:-0400
TZNAME:EDT
DTSTART:20260308T070000
END:DAYLIGHT
BEGIN:STANDARD
TZOFFSETFROM:-0400
TZOFFSETTO:-0500
TZNAME:EST
DTSTART:20261101T060000
END:STANDARD
BEGIN:DAYLIGHT
TZOFFSETFROM:-0500
TZOFFSETTO:-0400
TZNAME:EDT
DTSTART:20270314T070000
END:DAYLIGHT
BEGIN:STANDARD
TZOFFSETFROM:-0400
TZOFFSETTO:-0500
TZNAME:EST
DTSTART:20271107T060000
END:STANDARD
END:VTIMEZONE
BEGIN:VEVENT
DTSTART;TZID=America/Toronto:20260215T170000
DTEND;TZID=America/Toronto:20260215T220000
DTSTAMP:20260423T200547
CREATED:20260206T031525Z
LAST-MODIFIED:20260210T193120Z
UID:61584-1771174800-1771192800@talkoftoronto.ca
SUMMARY:DJ Rennie Presents: Pure Energy (Lovers & Friends)
DESCRIPTION:Pure Energy is back! Join us at Greta (UPSTAIRS) – Sun\, Feb 15th\, 2026. Playing all the best R&B\, Hip Hop\, Dancehall\, Soca\, Afrobeats & more\n\n\nPURE ENERGY IS BACK in collaboration with Extra Life\, to bring you a special Valentines Edition “Lovers & Friends” 💌\nGet ready – Sunday Feb 15th\, 2026 — for an unforgettable night filled with the hottest sounds in R&B\, Hip Hop\, Dancehall\, Soca\, Afrobeats\, and Latin vibes. \n🔥 Featuring some of Toronto’s finest.\n🎧 Sounds by:\nDJ RENNIE • JAMIE LEE • OTR \n🎤 Hosted by:\nDrew Smoothy & Masters \n📍 Venue: GRETA BAR YYZ (590 King St W\, Toronto\, ON M5V 1M6)\n🎮 Arcade games will be available to play all night long! \n🍔 Food will be served until 1am\, Arrive early to eat! \n🎟️ Tickets are on sale now — secure yours early! Pre-sale tickets are highly recommended as door prices will be higher. \n  \n\n\n\n\n\n\n\n \n\n\n  \n    🎟 Buy Tickets Now
URL:https://talkoftoronto.ca/event/dj-rennie-presents-pure-energy-lovers-friends/
LOCATION:GRETA Bar YYZ\, 590 King Street West\, Toronto\, ON M5V 1M6\, Toronto\, M5V 1M6\, CA
CATEGORIES:Afro Beats,Hip-Hop/Rap,Nightlife & Parties,R&B,Reggae & Dancehall,Soca
ATTACH;FMTTYPE=image/png:https://talkoftoronto.ca/wp-content/uploads/2026/02/61584_image.png
END:VEVENT
END:VCALENDAR