BEGIN:VCALENDAR
VERSION:2.0
PRODID:-//Talk of Toronto - ECPv6.15.20//NONSGML v1.0//EN
CALSCALE:GREGORIAN
METHOD:PUBLISH
X-WR-CALNAME:Talk of Toronto
X-ORIGINAL-URL:https://talkoftoronto.ca
X-WR-CALDESC:Events for Talk of Toronto
REFRESH-INTERVAL;VALUE=DURATION:PT1H
X-Robots-Tag:noindex
X-PUBLISHED-TTL:PT1H
BEGIN:VTIMEZONE
TZID:America/Toronto
BEGIN:DAYLIGHT
TZOFFSETFROM:-0500
TZOFFSETTO:-0400
TZNAME:EDT
DTSTART:20250309T070000
END:DAYLIGHT
BEGIN:STANDARD
TZOFFSETFROM:-0400
TZOFFSETTO:-0500
TZNAME:EST
DTSTART:20251102T060000
END:STANDARD
BEGIN:DAYLIGHT
TZOFFSETFROM:-0500
TZOFFSETTO:-0400
TZNAME:EDT
DTSTART:20260308T070000
END:DAYLIGHT
BEGIN:STANDARD
TZOFFSETFROM:-0400
TZOFFSETTO:-0500
TZNAME:EST
DTSTART:20261101T060000
END:STANDARD
BEGIN:DAYLIGHT
TZOFFSETFROM:-0500
TZOFFSETTO:-0400
TZNAME:EDT
DTSTART:20270314T070000
END:DAYLIGHT
BEGIN:STANDARD
TZOFFSETFROM:-0400
TZOFFSETTO:-0500
TZNAME:EST
DTSTART:20271107T060000
END:STANDARD
END:VTIMEZONE
BEGIN:VEVENT
DTSTART;TZID=America/Toronto:20260405T220000
DTEND;TZID=America/Toronto:20260406T030000
DTSTAMP:20260423T205124
CREATED:20260321T223206Z
LAST-MODIFIED:20260321T224118Z
UID:61871-1775426400-1775444400@talkoftoronto.ca
SUMMARY:DJ Rennie Presents: Sunday Shellings (Easter Sunday)
DESCRIPTION:For One Night Only DJ Rennie brings to you “Sunday Shellings” With some of the cities best DJ’s bringing you a night of Dancehall & Soca.\n\n\nDJ RENNIE PRESENTS SUNDAY SHELLINGS: \nJoin us this Easter Sunday Night (Long Weekend) \nFor a night of Dancehall\, Soca\, Hip Hop and more\, with some of Toronto’s top DJ’s. \nSOUNDS BY: RENNIE\, JOSHUA LUCAS\, ICREDIBLE SHY\, JORDIOR & DASSY. \nHOSTED BY: GIZELLE \n19+ Event \nLOCATION: ACQUA SUPPER CLUB \nTIME: 10PM-3AM \nFood will be served at the venue. \nNO REFUNDS ON THE EVENT. \n  \n\n\n\n \n\n\n  \n    🎟 Buy Tickets Now\n  \n\n 
URL:https://talkoftoronto.ca/event/dj-rennie-presents-sunday-shellings-easter-sunday/
LOCATION:Acqua Supper Club\, 50 Prince Edward Island Crescent\, Toronto\, ON M6K 3C3\, Toronto\, M6K 3C3\, CA
CATEGORIES:Nightlife & Parties,Reggae & Dancehall,Soca
ATTACH;FMTTYPE=image/png:https://talkoftoronto.ca/wp-content/uploads/2026/03/61871_image.png
END:VEVENT
END:VCALENDAR