BEGIN:VCALENDAR
VERSION:2.0
PRODID:-//Talk of Toronto - ECPv6.15.20//NONSGML v1.0//EN
CALSCALE:GREGORIAN
METHOD:PUBLISH
X-WR-CALNAME:Talk of Toronto
X-ORIGINAL-URL:https://talkoftoronto.ca
X-WR-CALDESC:Events for Talk of Toronto
REFRESH-INTERVAL;VALUE=DURATION:PT1H
X-Robots-Tag:noindex
X-PUBLISHED-TTL:PT1H
BEGIN:VTIMEZONE
TZID:America/Toronto
BEGIN:DAYLIGHT
TZOFFSETFROM:-0500
TZOFFSETTO:-0400
TZNAME:EDT
DTSTART:20250309T070000
END:DAYLIGHT
BEGIN:STANDARD
TZOFFSETFROM:-0400
TZOFFSETTO:-0500
TZNAME:EST
DTSTART:20251102T060000
END:STANDARD
BEGIN:DAYLIGHT
TZOFFSETFROM:-0500
TZOFFSETTO:-0400
TZNAME:EDT
DTSTART:20260308T070000
END:DAYLIGHT
BEGIN:STANDARD
TZOFFSETFROM:-0400
TZOFFSETTO:-0500
TZNAME:EST
DTSTART:20261101T060000
END:STANDARD
BEGIN:DAYLIGHT
TZOFFSETFROM:-0500
TZOFFSETTO:-0400
TZNAME:EDT
DTSTART:20270314T070000
END:DAYLIGHT
BEGIN:STANDARD
TZOFFSETFROM:-0400
TZOFFSETTO:-0500
TZNAME:EST
DTSTART:20271107T060000
END:STANDARD
END:VTIMEZONE
BEGIN:VEVENT
DTSTART;TZID=America/Toronto:20260516T160000
DTEND;TZID=America/Toronto:20260516T210000
DTSTAMP:20260423T194505
CREATED:20260323T173958Z
LAST-MODIFIED:20260324T160818Z
UID:62012-1778947200-1778965200@talkoftoronto.ca
SUMMARY:ESSENSE by That Slow Jam Party - TORONTO
DESCRIPTION:ESSENSE by That Slow Jam Party: An Elevated R&B Sunset Experience at Acqua\nThe vibes are shifting as we head into the warmer months. On Saturday\, May 16\, 2026\, the creators of Toronto’s most beloved R&B social return with ESSENSE. Taking over the stunning Acqua Supper Club patio\, this is more than just a party—it’s a sunset ritual dedicated to the soul of R&B. \nThe mandate is simple: Come dressed in Blue\, and be lit by the Sunset. \nEvent Details: The Golden Hour\n\nDate: Saturday\, May 16\, 2026\nTime: 4:00 PM – 9:00 PM (Day-to-Night Transition)\nVenue: Acqua Supper Club – 50 Prince Edward Island Crescent (CNE Grounds)\nDress Code: All Shades of Blue (Monochromatic looks encouraged)\nAdmission: 21+ Event (Strictly enforced)\n\n\nThe ESSENSE Vibe: R&B and Soul\nIn a city saturated with Top 40\, That Slow Jam Party has carved out a space for those who want to feel the music. ESSENSE takes that mission outdoors. Expect a meticulously curated soundtrack of “Old meets New”—from 90s slow jam anthems to the latest in Neo-Soul and R&B. \nPatio Takeover Energy\nLocated on the CNE grounds with a view of the skyline\, Acqua’s patio is the perfect backdrop for this 5-hour experience. As the sun dips\, the energy rises\, turning a sophisticated day social into a high-energy R&B celebration. \n\nTickets & VIP Tables\nThis event is known for its “Transparent Ticket Scale\,” rewarding those who book early. \n\nEarly Bird: $27.96 (Limited Quantity)\nGeneral Admission: $35.00+\nFinal Release: $45.00\nBooth & Bottle Service: Highly recommended for groups celebrating birthdays or looking for a home base on the patio.\nHow to Book: Email bottleservice@thatslowjamparty.com to secure your reservation.\n\n\nPro Tip: If you’re looking for “R&B parties in Toronto this May” or “Best patio events at Acqua\,” ESSENSE is the gold standard. It’s a 21+ crowd\, ensuring a mature\, sophisticated atmosphere that focuses on the music and the community. \n\n\nKnow Before You Go\n\nArrival: Arrive by 5:00 PM to catch the best of the sunset and the full patio experience.\nTheme: The “Dress in Blue” theme is a signature of ESSENSE. Whether it’s Navy\, Sky\, or Royal\, make sure you’re on brand!\nRefunds: There is a strict No Refund Policy for this event.\n\n[Get Your ESSENSE by That Slow Jam Party Tickets Here] \n\nAn elevated R&B sunset party\, patio takeover energy. Come dressed in Blue\, be lit by Sunset.\n\n\n\n \n\n\n  \n    🎟 Buy Tickets Now\n  \n\n\nSponsored Ad:
URL:https://talkoftoronto.ca/event/essense-by-that-slow-jam-party-toronto/
LOCATION:Acqua Supper Club\, 50 Prince Edward Island Crescent\, Toronto\, ON M6K 3C3\, Toronto\, M6K 3C3\, CA
CATEGORIES:Nightlife & Parties,R&B
ATTACH;FMTTYPE=image/jpeg:https://talkoftoronto.ca/wp-content/uploads/2026/03/62012_image.jpg
END:VEVENT
END:VCALENDAR