BEGIN:VCALENDAR
VERSION:2.0
PRODID:-//Talk of Toronto - ECPv6.15.20//NONSGML v1.0//EN
CALSCALE:GREGORIAN
METHOD:PUBLISH
X-WR-CALNAME:Talk of Toronto
X-ORIGINAL-URL:https://talkoftoronto.ca
X-WR-CALDESC:Events for Talk of Toronto
REFRESH-INTERVAL;VALUE=DURATION:PT1H
X-Robots-Tag:noindex
X-PUBLISHED-TTL:PT1H
BEGIN:VTIMEZONE
TZID:America/Toronto
BEGIN:DAYLIGHT
TZOFFSETFROM:-0500
TZOFFSETTO:-0400
TZNAME:EDT
DTSTART:20250309T070000
END:DAYLIGHT
BEGIN:STANDARD
TZOFFSETFROM:-0400
TZOFFSETTO:-0500
TZNAME:EST
DTSTART:20251102T060000
END:STANDARD
BEGIN:DAYLIGHT
TZOFFSETFROM:-0500
TZOFFSETTO:-0400
TZNAME:EDT
DTSTART:20260308T070000
END:DAYLIGHT
BEGIN:STANDARD
TZOFFSETFROM:-0400
TZOFFSETTO:-0500
TZNAME:EST
DTSTART:20261101T060000
END:STANDARD
BEGIN:DAYLIGHT
TZOFFSETFROM:-0500
TZOFFSETTO:-0400
TZNAME:EDT
DTSTART:20270314T070000
END:DAYLIGHT
BEGIN:STANDARD
TZOFFSETFROM:-0400
TZOFFSETTO:-0500
TZNAME:EST
DTSTART:20271107T060000
END:STANDARD
END:VTIMEZONE
BEGIN:VEVENT
DTSTART;TZID=America/Toronto:20260216T130000
DTEND;TZID=America/Toronto:20260216T170000
DTSTAMP:20260423T200328
CREATED:20260206T034244Z
LAST-MODIFIED:20260210T193215Z
UID:61601-1771246800-1771261200@talkoftoronto.ca
SUMMARY:FAMILY MATTERS COMEDY SHOW
DESCRIPTION:Get ready to laugh out loud with hilarious Comedians at the FAMILY MATTERS COMEDY SHOW\n\n\nFamily Day Monday February 16th 2026 \nSoca Sweetness & Calypso Hut Presents \nFAMILY MATTERS COMEDY SHOW \n@ Calypso Hut- 263 Queen St. E \n******** \nMARLON PALMER ” That Dude McFly” From The Morning Show On Flow \nAlongside CRYSTAL FERRIER \nHosted By JAY MARTIN \n******** \nMusic By \nDJ SOCA SWEETNESS \nA PLUS \n******** \nTABLE RESERVATIONS: \nNate: 416.871.5407 \nKerwin: 647.713.6671 \n\n\n \n\n\n  \n    🎟 Buy Tickets Now
URL:https://talkoftoronto.ca/event/family-matters-comedy-show/
LOCATION:Calypso Hut\, 263 Queen St E\, Brampton\, ON L6W 2B8\, Brampton\, L6W 2B8\, CA
CATEGORIES:Comedy & Theatre,Concerts & Live Music,Nightlife & Parties
ATTACH;FMTTYPE=image/jpeg:https://talkoftoronto.ca/wp-content/uploads/2026/02/61601_image.jpg
END:VEVENT
END:VCALENDAR