BEGIN:VCALENDAR
VERSION:2.0
PRODID:-//Talk of Toronto - ECPv6.15.20//NONSGML v1.0//EN
CALSCALE:GREGORIAN
METHOD:PUBLISH
X-WR-CALNAME:Talk of Toronto
X-ORIGINAL-URL:https://talkoftoronto.ca
X-WR-CALDESC:Events for Talk of Toronto
REFRESH-INTERVAL;VALUE=DURATION:PT1H
X-Robots-Tag:noindex
X-PUBLISHED-TTL:PT1H
BEGIN:VTIMEZONE
TZID:America/Toronto
BEGIN:DAYLIGHT
TZOFFSETFROM:-0500
TZOFFSETTO:-0400
TZNAME:EDT
DTSTART:20230312T070000
END:DAYLIGHT
BEGIN:STANDARD
TZOFFSETFROM:-0400
TZOFFSETTO:-0500
TZNAME:EST
DTSTART:20231105T060000
END:STANDARD
BEGIN:DAYLIGHT
TZOFFSETFROM:-0500
TZOFFSETTO:-0400
TZNAME:EDT
DTSTART:20240310T070000
END:DAYLIGHT
BEGIN:STANDARD
TZOFFSETFROM:-0400
TZOFFSETTO:-0500
TZNAME:EST
DTSTART:20241103T060000
END:STANDARD
BEGIN:DAYLIGHT
TZOFFSETFROM:-0500
TZOFFSETTO:-0400
TZNAME:EDT
DTSTART:20250309T070000
END:DAYLIGHT
BEGIN:STANDARD
TZOFFSETFROM:-0400
TZOFFSETTO:-0500
TZNAME:EST
DTSTART:20251102T060000
END:STANDARD
END:VTIMEZONE
BEGIN:VEVENT
DTSTART;TZID=America/Toronto:20240615T220000
DTEND;TZID=America/Toronto:20240616T020000
DTSTAMP:20260424T090419
CREATED:20240511T155953Z
LAST-MODIFIED:20240511T155953Z
UID:55057-1718488800-1718503200@talkoftoronto.ca
SUMMARY:FOR THE CULTURE | NIGHT SWIM
DESCRIPTION:FOR THE CULTURE | NIGHT SWIM\nWe’ve given you some of the best pool parties the city has ever seen\, this time we do it after dark! This is one of our favourite editions\, Cabanas & Booths will sell out in advance! The earlier you secure your tickets\, the less they cost so get yours today. \nOpen-Air Venue x Pools x Treats x Photo Ops x Food for sale x Live Entertainment\nWear what you dare\, just come ready to enjoy an outdoor vibe at night! Don’t let anything make you miss this edition\, get your tickets while they’re available! \nReggae x Soca x Afrobeats\nHip Hop x Amapiano x R&B x Pool Party Vibes \nSoundtrack by: \nDJ Kevin x DJ Empire x Joshua Lucas x 3 Keys Music Group x DJ Suga B \nVIP Booths/Bottle Service: Booths start at a 2 bottle minimum. If interested\, please text your email address & the event to 647 408 7739 \n \n \n 
URL:https://talkoftoronto.ca/event/for-the-culture-night-swim/
LOCATION:AQUARIO BEACH CLUB\, 949 Dillingham Rd\, Pickering\, Ontario\, Canada
CATEGORIES:Afro Beats,Hip Hop,Reggae & Dancehall
ATTACH;FMTTYPE=image/jpeg:https://talkoftoronto.ca/wp-content/uploads/2024/05/1000_flyer_fortheculture-nightswim-june2024-toronto-events-party-nightlife-r-07.jpeg
END:VEVENT
END:VCALENDAR