BEGIN:VCALENDAR
VERSION:2.0
PRODID:-//Talk of Toronto - ECPv6.15.20//NONSGML v1.0//EN
CALSCALE:GREGORIAN
METHOD:PUBLISH
X-WR-CALNAME:Talk of Toronto
X-ORIGINAL-URL:https://talkoftoronto.ca
X-WR-CALDESC:Events for Talk of Toronto
REFRESH-INTERVAL;VALUE=DURATION:PT1H
X-Robots-Tag:noindex
X-PUBLISHED-TTL:PT1H
BEGIN:VTIMEZONE
TZID:America/Toronto
BEGIN:DAYLIGHT
TZOFFSETFROM:-0500
TZOFFSETTO:-0400
TZNAME:EDT
DTSTART:20240310T070000
END:DAYLIGHT
BEGIN:STANDARD
TZOFFSETFROM:-0400
TZOFFSETTO:-0500
TZNAME:EST
DTSTART:20241103T060000
END:STANDARD
BEGIN:DAYLIGHT
TZOFFSETFROM:-0500
TZOFFSETTO:-0400
TZNAME:EDT
DTSTART:20250309T070000
END:DAYLIGHT
BEGIN:STANDARD
TZOFFSETFROM:-0400
TZOFFSETTO:-0500
TZNAME:EST
DTSTART:20251102T060000
END:STANDARD
BEGIN:DAYLIGHT
TZOFFSETFROM:-0500
TZOFFSETTO:-0400
TZNAME:EDT
DTSTART:20260308T070000
END:DAYLIGHT
BEGIN:STANDARD
TZOFFSETFROM:-0400
TZOFFSETTO:-0500
TZNAME:EST
DTSTART:20261101T060000
END:STANDARD
END:VTIMEZONE
BEGIN:VEVENT
DTSTART;TZID=America/Toronto:20250216T150000
DTEND;TZID=America/Toronto:20250216T210000
DTSTAMP:20260424T024209
CREATED:20250114T060957Z
LAST-MODIFIED:20250114T062305Z
UID:57258-1739718000-1739739600@talkoftoronto.ca
SUMMARY:Give Me Soca
DESCRIPTION:Talk of Toronto Featured Event\nGive Me Soca – Presented by Steph Honey\n\n📅 Date: Sunday\, February 16\, 2025\n⏰ Time: 3 PM – 9 PM\n📍 Venue: Bar Dem\, 308 Dundas St W\, Toronto \n\n \nEvent Description\nGet ready to feel the vibes at Give Me Soca\, Toronto’s ultimate celebration of Soca music\, brought to you by the one and only Steph Honey! \nThis 19+ event is your chance to revel in the infectious rhythms and high-energy beats of 100% Soca\, featuring an all-star lineup of DJs guaranteed to keep you moving: \n🎧 Steph Honey\n🎧 Flexx Got Next\n🎧 Doc\n🎧 Jester\n🎧 Menace \nHosted by the dynamic duo Mr. Stanfield and Carnival Bae\, the evening promises to be nothing short of legendary. \n\nEvent Details\n\nDress Code: Chic\, stylish\, colorful—and don’t forget your flags!\nCoat Check: Mandatory.\n\nThis is your chance to turn up\, show off your style\, and represent your roots in a vibrant\, energetic atmosphere. \n\nWhy Attend?\n\nCelebrate the long weekend with Soca lovers from across the city.\nDance to a lineup of Toronto’s finest Soca DJs.\nExperience a stylish and colorful crowd ready to party.\n\nClick Here For Tickets\n\n🎟 Age Restriction: 19+ with valid ID required. \nDon’t miss out on the action—mark your calendar for Sunday\, February 16\, 2025! \nFor more events like this\, visit TalkofToronto.ca.
URL:https://talkoftoronto.ca/event/give-me-soca-toronto-event-party-fete-2025/
LOCATION:Bar Dem\, 308 Dundas St W\, Toronto\, Ontario\, Canada
CATEGORIES:Soca
ATTACH;FMTTYPE=image/jpeg:https://talkoftoronto.ca/wp-content/uploads/2025/01/give-me-soca-event-toronto-fete-party-2025.jpg
END:VEVENT
END:VCALENDAR