BEGIN:VCALENDAR
VERSION:2.0
PRODID:-//Talk of Toronto - ECPv6.15.20//NONSGML v1.0//EN
CALSCALE:GREGORIAN
METHOD:PUBLISH
X-WR-CALNAME:Talk of Toronto
X-ORIGINAL-URL:https://talkoftoronto.ca
X-WR-CALDESC:Events for Talk of Toronto
REFRESH-INTERVAL;VALUE=DURATION:PT1H
X-Robots-Tag:noindex
X-PUBLISHED-TTL:PT1H
BEGIN:VTIMEZONE
TZID:America/Toronto
BEGIN:DAYLIGHT
TZOFFSETFROM:-0500
TZOFFSETTO:-0400
TZNAME:EDT
DTSTART:20240310T070000
END:DAYLIGHT
BEGIN:STANDARD
TZOFFSETFROM:-0400
TZOFFSETTO:-0500
TZNAME:EST
DTSTART:20241103T060000
END:STANDARD
BEGIN:DAYLIGHT
TZOFFSETFROM:-0500
TZOFFSETTO:-0400
TZNAME:EDT
DTSTART:20250309T070000
END:DAYLIGHT
BEGIN:STANDARD
TZOFFSETFROM:-0400
TZOFFSETTO:-0500
TZNAME:EST
DTSTART:20251102T060000
END:STANDARD
BEGIN:DAYLIGHT
TZOFFSETFROM:-0500
TZOFFSETTO:-0400
TZNAME:EDT
DTSTART:20260308T070000
END:DAYLIGHT
BEGIN:STANDARD
TZOFFSETFROM:-0400
TZOFFSETTO:-0500
TZNAME:EST
DTSTART:20261101T060000
END:STANDARD
END:VTIMEZONE
BEGIN:VEVENT
DTSTART;TZID=America/Toronto:20250201T140000
DTEND;TZID=America/Toronto:20250201T180000
DTSTAMP:20260424T023759
CREATED:20250104T154005Z
LAST-MODIFIED:20250104T154311Z
UID:57164-1738418400-1738432800@talkoftoronto.ca
SUMMARY:Harlem GlobeTrotters - Live in Toronto
DESCRIPTION:Talk of Toronto Featured Event: \nHARLEM GLOBETROTTERS 2025 WORLD TOUR\nWhere\, WHAT JUST HAPPENED?!? happens all the time! \nDon’t miss your chance to be a part of the world-famous Harlem Globetrotters global 2025 tour as they take the court with moments of extreme basketball innovation and unparalleled fan FUN! See the Globetrotter stars LIVE as they DRIBBLE\, SPIN\, SLAM\, and DUNK their way past their relentless rivals\, the Washington Generals! You’ll be amazed by new levels of mind-blowing trick shots\, expert ball-handling skills\, and BIG LAUGHS with unrivaled opportunities for pre-game\, post-game and in-game fan engagement! \n \n#TorontoBasketball #TorontoEvents
URL:https://talkoftoronto.ca/event/harlem-globetrotters-live-in-toronto/
LOCATION:Paramount Fine Foods Centre\, 5500 Rose Cherry Place\, Mississauga\, Ontario\, L4Z 4B6\, Canada
CATEGORIES:Old School
ATTACH;FMTTYPE=image/jpeg:https://talkoftoronto.ca/wp-content/uploads/2025/01/Harlem-GlobeTrotters-Live-in-Toronto-2025-mississauga-basketball.jpg
END:VEVENT
END:VCALENDAR