BEGIN:VCALENDAR
VERSION:2.0
PRODID:-//Talk of Toronto - ECPv6.15.20//NONSGML v1.0//EN
CALSCALE:GREGORIAN
METHOD:PUBLISH
X-WR-CALNAME:Talk of Toronto
X-ORIGINAL-URL:https://talkoftoronto.ca
X-WR-CALDESC:Events for Talk of Toronto
REFRESH-INTERVAL;VALUE=DURATION:PT1H
X-Robots-Tag:noindex
X-PUBLISHED-TTL:PT1H
BEGIN:VTIMEZONE
TZID:America/Toronto
BEGIN:DAYLIGHT
TZOFFSETFROM:-0500
TZOFFSETTO:-0400
TZNAME:EDT
DTSTART:20240310T070000
END:DAYLIGHT
BEGIN:STANDARD
TZOFFSETFROM:-0400
TZOFFSETTO:-0500
TZNAME:EST
DTSTART:20241103T060000
END:STANDARD
BEGIN:DAYLIGHT
TZOFFSETFROM:-0500
TZOFFSETTO:-0400
TZNAME:EDT
DTSTART:20250309T070000
END:DAYLIGHT
BEGIN:STANDARD
TZOFFSETFROM:-0400
TZOFFSETTO:-0500
TZNAME:EST
DTSTART:20251102T060000
END:STANDARD
BEGIN:DAYLIGHT
TZOFFSETFROM:-0500
TZOFFSETTO:-0400
TZNAME:EDT
DTSTART:20260308T070000
END:DAYLIGHT
BEGIN:STANDARD
TZOFFSETFROM:-0400
TZOFFSETTO:-0500
TZNAME:EST
DTSTART:20261101T060000
END:STANDARD
END:VTIMEZONE
BEGIN:VEVENT
DTSTART;TZID=America/Toronto:20251031T180000
DTEND;TZID=America/Toronto:20251031T230000
DTSTAMP:20260424T120422
CREATED:20251029T011827Z
LAST-MODIFIED:20251029T011839Z
UID:61125-1761933600-1761951600@talkoftoronto.ca
SUMMARY:HOUSE OF HORRORS HALLOWEN COSTUME BASH 4AM LAST CALL
DESCRIPTION:4AM LAST CALLX LONGEST RUNNING HALLOWEEN COSTUME PARTY SOLD OUT 11 YEARS STRAIGHT PLAYING THE BEST IN HIP HOP X RNB X REGGAE X SOCA X AFRO\n\n\nHOUSE OF HORRORS ‘ THE BIGGEST HALLOWEEN NIGHT COSTUME PARTY \nFRIDAY October 31st 2025 *** 4AM LAST CALL \, BAR OPEN TILL 4AM \n  \nIf you remember or missed the OUR MASSIVE Halloween HOUSE OF HORRORS EVENT LAST YEAR \, then you MUST attend! This year we are in The BIGGEEST venue with room for 1000+ people DOWNTOWN TORONTO . Get your Costume Ready and prepare to Party It Up all night Long! Spooky Decor TOP end Sound And Lighting Playing The Best In GHOULISH Hip Hop x Rnb x Top 40x Soca x Reggae x Afrobeats All Night Long . Get Ready and get Creative! THIS WILL BE THE BIGGEST PARTY ON KING ST DOWNTOWN TORONTO! ALL INSIDE TORONTO NEWEST NIGHTCLLUB ORIA NIGHTCLUB! \n  \nORIA NIGHTCLUB GET YOUR COSTUME READY!!! \n  \nMusic By: \nDR JAY \nDJ WHITEBWOY \nD J BWARE \nF YAH BLAYZIN \nHOSTED BY MC CRAZY CHRIS X AARON CJ HASTINGS \nBooths & Bottle Services Available BOOTHS STARTING FROM $500 \n($100 Deposit Required – TICKETS PURCHASED SEPARATE ) BOTTLE SERVICE WILL HAVE A DEDICATED VIP ENTRANCE) \nADMISSION: $50 AT THE DOOR \nPSA: You don’t have to wear a Costume to enter as we are accepting EVERYONE\, but why not its Halloween! \nTO BOOK YOUR BOOTH email Info@TalkofToronto.ca \nHOUSE OF HORRORS- THE BIGGEST HALLOWEEN NIGHT COSTUME BASH OCTOBER 31ST
URL:https://talkoftoronto.ca/event/house-of-horrors-hallowen-costume-bash-4am-last-call/
LOCATION:Oria on king\, 220 King Street West\, Toronto\, ON M5V 3M2\, Toronto\, M5V 3M2\, CA
ATTACH;FMTTYPE=image/jpeg:https://talkoftoronto.ca/wp-content/uploads/2025/10/61125_image.jpg
END:VEVENT
END:VCALENDAR