BEGIN:VCALENDAR
VERSION:2.0
PRODID:-//Talk of Toronto - ECPv6.15.20//NONSGML v1.0//EN
CALSCALE:GREGORIAN
METHOD:PUBLISH
X-WR-CALNAME:Talk of Toronto
X-ORIGINAL-URL:https://talkoftoronto.ca
X-WR-CALDESC:Events for Talk of Toronto
REFRESH-INTERVAL;VALUE=DURATION:PT1H
X-Robots-Tag:noindex
X-PUBLISHED-TTL:PT1H
BEGIN:VTIMEZONE
TZID:America/Toronto
BEGIN:DAYLIGHT
TZOFFSETFROM:-0500
TZOFFSETTO:-0400
TZNAME:EDT
DTSTART:20240310T070000
END:DAYLIGHT
BEGIN:STANDARD
TZOFFSETFROM:-0400
TZOFFSETTO:-0500
TZNAME:EST
DTSTART:20241103T060000
END:STANDARD
BEGIN:DAYLIGHT
TZOFFSETFROM:-0500
TZOFFSETTO:-0400
TZNAME:EDT
DTSTART:20250309T070000
END:DAYLIGHT
BEGIN:STANDARD
TZOFFSETFROM:-0400
TZOFFSETTO:-0500
TZNAME:EST
DTSTART:20251102T060000
END:STANDARD
BEGIN:DAYLIGHT
TZOFFSETFROM:-0500
TZOFFSETTO:-0400
TZNAME:EDT
DTSTART:20260308T070000
END:DAYLIGHT
BEGIN:STANDARD
TZOFFSETFROM:-0400
TZOFFSETTO:-0500
TZNAME:EST
DTSTART:20261101T060000
END:STANDARD
END:VTIMEZONE
BEGIN:VEVENT
DTSTART;TZID=America/Toronto:20250216T223000
DTEND;TZID=America/Toronto:20250217T020000
DTSTAMP:20260423T201053
CREATED:20250106T141459Z
LAST-MODIFIED:20250106T141959Z
UID:57199-1739745000-1739757600@talkoftoronto.ca
SUMMARY:I LOVE SOCA -  REGGAELUTION
DESCRIPTION:Talk of Toronto Featured Event – I ❤️ LOVE SOCA REGGAELUTION – Family Day Long Weekend Bash\n🎉 Celebrate Family Day Long Weekend in Style! 🎉 \n📅 Date: Sunday\, February 16th\, 2025\n📍 Venue: Mystic Lounge\, 50 Kennedy Road\, Brampton \nJoin us for an unforgettable night of rhythm\, vibes\, and energy as i❤️SOCA REGGAELUTION takes over Mystic Lounge! Get ready to groove to the hottest beats and celebrate Family Day Long Weekend with the best in Soca and Reggae music. \n🎶 Music By: \n\nD’BANDIT\nSOCA SWEETNESS\nWHITEBWOY\nMARXMAN\nFRESHCUT DE MAYOR\n+ More DJs to Keep the Party Alive!\n\n🎤 Hosted By: \n\nPRESTO\nDIRTY DEZ\nOSHAWN\n\n🔥 Expect Non-Stop Vibes\, Great Company\, and a Night to Remember! 🔥 \n🎟️ Tickets:\nAvailable now – secure yours early to avoid disappointment! \n \n💃 Let the Soca and Reggae beats take you away this Family Day Long Weekend! Don’t miss out on Brampton’s biggest celebration. \nFor all your events\, parties\, nightlife visit TalkOfToronto.ca. \n 
URL:https://talkoftoronto.ca/event/i-love-soca-reggaelution-toronto-party-event/
LOCATION:Mystic Lounge\, 50 Kennedy Road\, Brampton\, Canada
CATEGORIES:Reggae & Dancehall,Soca
ATTACH;FMTTYPE=image/jpeg:https://talkoftoronto.ca/wp-content/uploads/2025/01/I-LOVE-SOCA-REGGAELUTION-Toronto-Party-Event-Reggae.jpg
END:VEVENT
END:VCALENDAR