BEGIN:VCALENDAR
VERSION:2.0
PRODID:-//Talk of Toronto - ECPv6.15.20//NONSGML v1.0//EN
CALSCALE:GREGORIAN
METHOD:PUBLISH
X-WR-CALNAME:Talk of Toronto
X-ORIGINAL-URL:https://talkoftoronto.ca
X-WR-CALDESC:Events for Talk of Toronto
REFRESH-INTERVAL;VALUE=DURATION:PT1H
X-Robots-Tag:noindex
X-PUBLISHED-TTL:PT1H
BEGIN:VTIMEZONE
TZID:America/Toronto
BEGIN:DAYLIGHT
TZOFFSETFROM:-0500
TZOFFSETTO:-0400
TZNAME:EDT
DTSTART:20240310T070000
END:DAYLIGHT
BEGIN:STANDARD
TZOFFSETFROM:-0400
TZOFFSETTO:-0500
TZNAME:EST
DTSTART:20241103T060000
END:STANDARD
BEGIN:DAYLIGHT
TZOFFSETFROM:-0500
TZOFFSETTO:-0400
TZNAME:EDT
DTSTART:20250309T070000
END:DAYLIGHT
BEGIN:STANDARD
TZOFFSETFROM:-0400
TZOFFSETTO:-0500
TZNAME:EST
DTSTART:20251102T060000
END:STANDARD
BEGIN:DAYLIGHT
TZOFFSETFROM:-0500
TZOFFSETTO:-0400
TZNAME:EDT
DTSTART:20260308T070000
END:DAYLIGHT
BEGIN:STANDARD
TZOFFSETFROM:-0400
TZOFFSETTO:-0500
TZNAME:EST
DTSTART:20261101T060000
END:STANDARD
END:VTIMEZONE
BEGIN:VEVENT
DTSTART;TZID=America/Toronto:20250801T220000
DTEND;TZID=America/Toronto:20250802T030000
DTSTAMP:20260424T023710
CREATED:20250705T022039Z
LAST-MODIFIED:20250705T022119Z
UID:58315-1754085600-1754103600@talkoftoronto.ca
SUMMARY:Jab Jab J'Ouvert 2025
DESCRIPTION:🎭 Jab Jab J’Ouvert 2025 – Toronto Carnival Friday\nPresented by: Jab Jab J’Ouvert📅 Date & Time: Friday\, August 1\, 2025 • 4 PM–12 AM (ET)📍 Location: Outdoors at 50 Esna Park Drive\, Markham\, ON (Highway 404 & Steeles) \n \n\n🔥 Event Highlights\n\n\nCanada’s Biggest J’Ouvert Event returns for Toronto Carnival Friday \n\n\nA full spectrum of mess: paint\, powder\, foam\, water\, and classic Jab Jab culture \n\n\nDive into a wild\, muddy\, paint-soaked celebration—“Come Clean\, Leave Dirty” \n\n\nClean/Dry Section available for those who want the vibes without the mess \n\n\n\n🎫 Ticket Info\n\n\nEarly Bird: CAD 65 — sold out \n\n\nTier 1: CAD 70 — sold out \n\n\nTier 2: CAD 85 (on sale until event start) \n\n\nNo refunds — rain or shine\, all sales final \n\n\n\n📌 Why You Should Go\n\n\nImmerse yourself in the purest form of J’Ouvert energy—Caribbean tradition\, vibrant paint\, and community spirit \n\n\nA signature experience in the lead-up to Toronto Carnival weekend \n\n\nA multisensory play zone—perfect for adrenaline seekers and culture enthusiasts \n\n\n\n✅ Event Essentials\n\n\n\n\n\nWhat to Bring\nNotes\n\n\n\n\nOLD clothes & goggles\nYou will get messy!\n\n\nWater bottle + towel\nStay hydrated and ready\n\n\nClean/Dry access?\nGrab tickets early if you want to skip the mess section\n\n\nPublic transit or rideshare\nPlan ahead—limited parking\n\n\n\n\n\n\n\n\n\nGet ready for paint\, powder\, and pure energy.Toronto Carnival Friday starts here—Jab Jab J’Ouvert 2025 on August 1 at Markham’s Esna Park. Secure your Tier 2 tickets now and be part of Canada’s biggest J’Ouvert tradition!
URL:https://talkoftoronto.ca/event/jab-jab-jouvert-2025/
LOCATION:50 Esna Park Drive\, 50 Esna Park Drive\, Markham\, Ontario\, Canada
CATEGORIES:Soca,Toronto Caribana Carnival
ATTACH;FMTTYPE=image/png:https://talkoftoronto.ca/wp-content/uploads/2025/07/Jab-Jab-Jouvert-Toronto-Soca-2025-Caribana-Carnival.png
END:VEVENT
END:VCALENDAR