BEGIN:VCALENDAR
VERSION:2.0
PRODID:-//Talk of Toronto - ECPv6.15.20//NONSGML v1.0//EN
CALSCALE:GREGORIAN
METHOD:PUBLISH
X-WR-CALNAME:Talk of Toronto
X-ORIGINAL-URL:https://talkoftoronto.ca
X-WR-CALDESC:Events for Talk of Toronto
REFRESH-INTERVAL;VALUE=DURATION:PT1H
X-Robots-Tag:noindex
X-PUBLISHED-TTL:PT1H
BEGIN:VTIMEZONE
TZID:America/Toronto
BEGIN:DAYLIGHT
TZOFFSETFROM:-0500
TZOFFSETTO:-0400
TZNAME:EDT
DTSTART:20250309T070000
END:DAYLIGHT
BEGIN:STANDARD
TZOFFSETFROM:-0400
TZOFFSETTO:-0500
TZNAME:EST
DTSTART:20251102T060000
END:STANDARD
BEGIN:DAYLIGHT
TZOFFSETFROM:-0500
TZOFFSETTO:-0400
TZNAME:EDT
DTSTART:20260308T070000
END:DAYLIGHT
BEGIN:STANDARD
TZOFFSETFROM:-0400
TZOFFSETTO:-0500
TZNAME:EST
DTSTART:20261101T060000
END:STANDARD
BEGIN:DAYLIGHT
TZOFFSETFROM:-0500
TZOFFSETTO:-0400
TZNAME:EDT
DTSTART:20270314T070000
END:DAYLIGHT
BEGIN:STANDARD
TZOFFSETFROM:-0400
TZOFFSETTO:-0500
TZNAME:EST
DTSTART:20271107T060000
END:STANDARD
END:VTIMEZONE
BEGIN:VEVENT
DTSTART;TZID=America/Toronto:20260218T190000
DTEND;TZID=America/Toronto:20260218T233000
DTSTAMP:20260424T062659
CREATED:20251017T153020Z
LAST-MODIFIED:20251017T153020Z
UID:60751-1771441200-1771457400@talkoftoronto.ca
SUMMARY:Jully Black Live in Concert - Toronto
DESCRIPTION:🎤 Canada’s Queen of R&B Soul is Back! Jully Black Live in Concert \nGet ready to keep R&B alive\, loud\, and proud\, Toronto! The incomparable Jully Black is returning to the stage for a special performance on her 2026 Canadian tour. \nFollowing the incredible energy of her “Songs & Stories Tour 2025\,” Canada’s Queen of R&B Soul is bringing her powerful vocals and magnetic stage presence for a live music experience you won’t want to miss. Come see the Juno Award-winning artist and cultural icon for a night dedicated to true R&B\, soul\, and pop energy. \nAs Jully says\, “Your love during the Songs & Stories Tour 2025 proved it\, live music is a necessity in this country.” Let’s show her the 6ix agrees! \n  \nEvent Details\n\nWho: Jully Black\nWhen: Wednesday\, February 18\, 2026\nTime: 7:00 PM\nWhere: The Mod Club (formerly known as The Axis Club)\, Toronto\, ON\nAge Restriction: This is a LEGAL AGE 19+ show.\n\n  \nPresale Alert!\n  \nA limited number of tickets are available now for the Artist Presale. \n\nPresale Code: Jully26\n\n#JullyBlackLIVE #CanadianRnB #TorontoConcert #TheModClub #AxisClub #SupportLiveMusic #TalkofToronto \n\n \n  \n\n \n\n\n  \n    🎟 Buy Tickets Now
URL:https://talkoftoronto.ca/event/jully-black-live-in-concert-toronto/
LOCATION:The Mod Club\, 722 College St\, Toronto\, Ontario\, M6G 1C4\, Canada
CATEGORIES:Concerts & Live Music,R&B
ATTACH;FMTTYPE=image/jpeg:https://talkoftoronto.ca/wp-content/uploads/2025/10/jully-black-concert-tour-2025-2026-toronto.jpg
END:VEVENT
END:VCALENDAR