BEGIN:VCALENDAR
VERSION:2.0
PRODID:-//Talk of Toronto - ECPv6.15.20//NONSGML v1.0//EN
CALSCALE:GREGORIAN
METHOD:PUBLISH
X-WR-CALNAME:Talk of Toronto
X-ORIGINAL-URL:https://talkoftoronto.ca
X-WR-CALDESC:Events for Talk of Toronto
REFRESH-INTERVAL;VALUE=DURATION:PT1H
X-Robots-Tag:noindex
X-PUBLISHED-TTL:PT1H
BEGIN:VTIMEZONE
TZID:America/Toronto
BEGIN:DAYLIGHT
TZOFFSETFROM:-0500
TZOFFSETTO:-0400
TZNAME:EDT
DTSTART:20240310T070000
END:DAYLIGHT
BEGIN:STANDARD
TZOFFSETFROM:-0400
TZOFFSETTO:-0500
TZNAME:EST
DTSTART:20241103T060000
END:STANDARD
BEGIN:DAYLIGHT
TZOFFSETFROM:-0500
TZOFFSETTO:-0400
TZNAME:EDT
DTSTART:20250309T070000
END:DAYLIGHT
BEGIN:STANDARD
TZOFFSETFROM:-0400
TZOFFSETTO:-0500
TZNAME:EST
DTSTART:20251102T060000
END:STANDARD
BEGIN:DAYLIGHT
TZOFFSETFROM:-0500
TZOFFSETTO:-0400
TZNAME:EDT
DTSTART:20260308T070000
END:DAYLIGHT
BEGIN:STANDARD
TZOFFSETFROM:-0400
TZOFFSETTO:-0500
TZNAME:EST
DTSTART:20261101T060000
END:STANDARD
END:VTIMEZONE
BEGIN:VEVENT
DTSTART;TZID=America/Toronto:20250301T220000
DTEND;TZID=America/Toronto:20250302T030000
DTSTAMP:20260423T183743
CREATED:20250211T173530Z
LAST-MODIFIED:20250211T174409Z
UID:57613-1740866400-1740884400@talkoftoronto.ca
SUMMARY:Junior Jones Presents .. "R&B Room"
DESCRIPTION:Talk of Toronto Featured Event\nJunior Jones Presents\nR&B ROOM\n\n@officialjuniorjones Toronto it’s that time again\n\nI’m pleased to announce the long awaited return of R&B Room!\n\nThis sexy and intimate edition takes place on R&B Music Day Saturday\, March 1st inside The Pearl.\n\nExpect everything from your favourite new hits\, the 90s and 2000s classics\, lovers rock\, trapsoul\, afrornb & more. Strictly Sexy Vibes. Don’t miss what’s in store for this special edition. Tickets & Booths Available Now!\n\nWhen:\nSaturday\, March 1st\, 2025 10pm-3am\nThe Pearl – 184 Pearl St\, Toronto\nDress Code: R&B Sexy & Fly\n\n$30 Early Bird Special Available Now Until Feb 13th or While Quantities Last\n\n\nFor Tickets Use Link in Bio:\nTickets.juniorjonesgroup.com\n\nFor Booth Reservations Email:\nConcierge@juniorjonesgroup.com\n\n#RnBRoom #ThePearl #JuniorJonesGroup\n#March1st #NationalRnBMusicDay\n_\n@rnb__room\n@juniorjonesgroup
URL:https://talkoftoronto.ca/event/junior-jones-presents-rb-room-toronto-event-2025/
LOCATION:The Pearl\, 184 Pearl St\, Toronto\, Ontario\, Canada
CATEGORIES:R&B
ATTACH;FMTTYPE=image/jpeg:https://talkoftoronto.ca/wp-content/uploads/2025/02/Talk-of-Toronto-Featured-Event-Junior-Jones-Presents-RB-ROOM.jpg
END:VEVENT
END:VCALENDAR