BEGIN:VCALENDAR
VERSION:2.0
PRODID:-//Talk of Toronto - ECPv6.15.20//NONSGML v1.0//EN
CALSCALE:GREGORIAN
METHOD:PUBLISH
X-WR-CALNAME:Talk of Toronto
X-ORIGINAL-URL:https://talkoftoronto.ca
X-WR-CALDESC:Events for Talk of Toronto
REFRESH-INTERVAL;VALUE=DURATION:PT1H
X-Robots-Tag:noindex
X-PUBLISHED-TTL:PT1H
BEGIN:VTIMEZONE
TZID:America/Toronto
BEGIN:DAYLIGHT
TZOFFSETFROM:-0500
TZOFFSETTO:-0400
TZNAME:EDT
DTSTART:20230312T070000
END:DAYLIGHT
BEGIN:STANDARD
TZOFFSETFROM:-0400
TZOFFSETTO:-0500
TZNAME:EST
DTSTART:20231105T060000
END:STANDARD
BEGIN:DAYLIGHT
TZOFFSETFROM:-0500
TZOFFSETTO:-0400
TZNAME:EDT
DTSTART:20240310T070000
END:DAYLIGHT
BEGIN:STANDARD
TZOFFSETFROM:-0400
TZOFFSETTO:-0500
TZNAME:EST
DTSTART:20241103T060000
END:STANDARD
BEGIN:DAYLIGHT
TZOFFSETFROM:-0500
TZOFFSETTO:-0400
TZNAME:EDT
DTSTART:20250309T070000
END:DAYLIGHT
BEGIN:STANDARD
TZOFFSETFROM:-0400
TZOFFSETTO:-0500
TZNAME:EST
DTSTART:20251102T060000
END:STANDARD
END:VTIMEZONE
BEGIN:VEVENT
DTSTART;TZID=America/Toronto:20241013T200000
DTEND;TZID=America/Toronto:20241013T233000
DTSTAMP:20260423T201505
CREATED:20240917T184834Z
LAST-MODIFIED:20240917T185002Z
UID:56272-1728849600-1728862200@talkoftoronto.ca
SUMMARY:Live in Concert: Cormega\, Group Home\, Knowledge the Pirate & ASUN Eastwood
DESCRIPTION:Talk of Toronto Featured Event: Cormega\, Group Home\, and Knowledge the Pirate Live Concert in Toronto! \nEvent Date & Time: Sunday\, October 13\, 2024 | Doors Open at 8:00 PM \nLocation: Phoenix Concert Theatre | 410 Sherbourne St\, Toronto\, ON \nEvent Description: \nSupreme Genes Records presents an unforgettable night of hip-hop with legends Cormega\, Group Home\, and Knowledge the Pirate\, performing live at the renowned Phoenix Concert Theatre. This event is part of the venue’s “The Final Spin” series\, celebrating 33 1/3 years of music history before its doors close forever. \nFans of classic hip-hop won’t want to miss this once-in-a-lifetime show\, where three of the genre’s most influential artists come together for a final celebration of the iconic Phoenix Concert Theatre\, a cornerstone of Toronto’s music culture. \nLineup Highlights: \n\nCormega: A lyrical powerhouse\, Cormega’s storytelling and wordplay have made him a revered figure in hip-hop\, known for his solo work and collaborations with The Firm.\nGroup Home: The legendary duo will bring their signature sound\, performing timeless tracks from their classic album “Livin’ Proof.”\nKnowledge the Pirate: Gritty\, raw\, and authentic\, Knowledge the Pirate promises to captivate the crowd with his streetwise bars and commanding stage presence.\n\nOpening Act: Toronto’s own Asun Eastwood\, kicking off the night with his sharp lyricism and homegrown talent. \nHosted By: Lord Fury\nMusic By: DJ Mercilless \nTicket Information: \n\nGeneral Floor Admission: $40.00\nUpstairs V.I.P. Admission: $75.00\nMeet & Greet Tickets: $60.00 per artist (add-on) – Meet your favorite artist(s) after the show!\nAll-Access Packages:\n\nGround Floor Admission + Meet All 3 Artists: $170.00\nUpstairs V.I.P. Admission + Meet All 3 Artists: $200.00\n\n\n\nTickets available exclusively at Eventbrite.ca. With the Phoenix Concert Theatre’s closing imminent\, this historic event is sure to sell out fast—secure your spot today! \n \nWhy You Should Attend: \nThis is more than just a concert; it’s a farewell to a venue that has hosted some of the most iconic performances in Toronto’s music history. Celebrate hip-hop greatness at the Phoenix Concert Theatre’s final chapter with Cormega\, Group Home\, and Knowledge the Pirate headlining this momentous occasion. \nDon’t Miss Out!\nJoin us Sunday\, October 13th\, for a night of legendary hip-hop at one of Toronto’s most iconic venues. Get your tickets now on Eventbrite.ca and be a part of this historic event! \n 
URL:https://talkoftoronto.ca/event/live-in-concert-toronto-cormega-group-home-knowledge-the-pirate-asun-eastwood-events/
LOCATION:Phoenix Concert Theatre\, 410 Sherbourne Street\, Toronto\, Ontario\, M5X 1K2\, Canada
CATEGORIES:Hip Hop
ATTACH;FMTTYPE=image/jpeg:https://talkoftoronto.ca/wp-content/uploads/2024/09/CORMEGA-in-Concert-Toronto-Events-Concerts-October-2024.jpg
END:VEVENT
END:VCALENDAR