BEGIN:VCALENDAR
VERSION:2.0
PRODID:-//Talk of Toronto - ECPv6.15.20//NONSGML v1.0//EN
CALSCALE:GREGORIAN
METHOD:PUBLISH
X-WR-CALNAME:Talk of Toronto
X-ORIGINAL-URL:https://talkoftoronto.ca
X-WR-CALDESC:Events for Talk of Toronto
REFRESH-INTERVAL;VALUE=DURATION:PT1H
X-Robots-Tag:noindex
X-PUBLISHED-TTL:PT1H
BEGIN:VTIMEZONE
TZID:America/Toronto
BEGIN:DAYLIGHT
TZOFFSETFROM:-0500
TZOFFSETTO:-0400
TZNAME:EDT
DTSTART:20240310T070000
END:DAYLIGHT
BEGIN:STANDARD
TZOFFSETFROM:-0400
TZOFFSETTO:-0500
TZNAME:EST
DTSTART:20241103T060000
END:STANDARD
BEGIN:DAYLIGHT
TZOFFSETFROM:-0500
TZOFFSETTO:-0400
TZNAME:EDT
DTSTART:20250309T070000
END:DAYLIGHT
BEGIN:STANDARD
TZOFFSETFROM:-0400
TZOFFSETTO:-0500
TZNAME:EST
DTSTART:20251102T060000
END:STANDARD
BEGIN:DAYLIGHT
TZOFFSETFROM:-0500
TZOFFSETTO:-0400
TZNAME:EDT
DTSTART:20260308T070000
END:DAYLIGHT
BEGIN:STANDARD
TZOFFSETFROM:-0400
TZOFFSETTO:-0500
TZNAME:EST
DTSTART:20261101T060000
END:STANDARD
END:VTIMEZONE
BEGIN:VEVENT
DTSTART;TZID=America/Toronto:20251011T180000
DTEND;TZID=America/Toronto:20251011T230000
DTSTAMP:20260424T032941
CREATED:20250914T151336Z
LAST-MODIFIED:20250922T180815Z
UID:59403-1760205600-1760223600@talkoftoronto.ca
SUMMARY:LYRIC
DESCRIPTION:Last year\, LYRIC shut the block down.This year\, we’re spinning it. #LyricIsBack \nWe paused. We reset. Now we PRESS PLAY. The Lyric Experience returns\, bigger and better than ever. \n📆 Saturday\, October 11\, 2025⏰ 6PM – 11PM📍 The National – 486 Front St W\, Toronto \n✨ What to Expect:🍲 Delicious Food On-Site🎳 Bowling & Social Vibes🕹 Interactive Games🎉 Birthdays • Bottles • Sections \nThis isn’t just another party—it’s a full immersive experience where culture\, music\, and good energy collide. \nFor birthdays\, bottle service & VIP sections\, contact Pow:📧 lyricandparty@gmail.com📱 Text: 416-858-2191 \n🔗 More info: www.lyricandparty.com \n \n \n \n \n\n \n\n\n  \n    🎟 Buy Tickets Now
URL:https://talkoftoronto.ca/event/lyric-experience-2025/
LOCATION:The National\, 486 Front St W\, Toronto\, Ontario\, Canada
CATEGORIES:R&B,Reggae & Dancehall
ATTACH;FMTTYPE=image/png:https://talkoftoronto.ca/wp-content/uploads/2025/09/Lyric_2025-toronto-event-parrty.png
END:VEVENT
END:VCALENDAR