BEGIN:VCALENDAR
VERSION:2.0
PRODID:-//Talk of Toronto - ECPv6.15.20//NONSGML v1.0//EN
CALSCALE:GREGORIAN
METHOD:PUBLISH
X-WR-CALNAME:Talk of Toronto
X-ORIGINAL-URL:https://talkoftoronto.ca
X-WR-CALDESC:Events for Talk of Toronto
REFRESH-INTERVAL;VALUE=DURATION:PT1H
X-Robots-Tag:noindex
X-PUBLISHED-TTL:PT1H
BEGIN:VTIMEZONE
TZID:America/Toronto
BEGIN:DAYLIGHT
TZOFFSETFROM:-0500
TZOFFSETTO:-0400
TZNAME:EDT
DTSTART:20250309T070000
END:DAYLIGHT
BEGIN:STANDARD
TZOFFSETFROM:-0400
TZOFFSETTO:-0500
TZNAME:EST
DTSTART:20251102T060000
END:STANDARD
BEGIN:DAYLIGHT
TZOFFSETFROM:-0500
TZOFFSETTO:-0400
TZNAME:EDT
DTSTART:20260308T070000
END:DAYLIGHT
BEGIN:STANDARD
TZOFFSETFROM:-0400
TZOFFSETTO:-0500
TZNAME:EST
DTSTART:20261101T060000
END:STANDARD
BEGIN:DAYLIGHT
TZOFFSETFROM:-0500
TZOFFSETTO:-0400
TZNAME:EDT
DTSTART:20270314T070000
END:DAYLIGHT
BEGIN:STANDARD
TZOFFSETFROM:-0400
TZOFFSETTO:-0500
TZNAME:EST
DTSTART:20271107T060000
END:STANDARD
END:VTIMEZONE
BEGIN:VEVENT
DTSTART;TZID=America/Toronto:20260614T200000
DTEND;TZID=America/Toronto:20260614T233000
DTSTAMP:20260423T195759
CREATED:20251001T200607Z
LAST-MODIFIED:20260324T161945Z
UID:60201-1781467200-1781479800@talkoftoronto.ca
SUMMARY:MGK & Wiz Khalifa — Live in Concert at Budweiser Stage Toronto
DESCRIPTION:MGK & Wiz Khalifa — Live in Concert at Budweiser Stage Toronto\nToronto\, get ready! 🌟 Machine Gun Kelly (mgk) brings his Lost Americana Tour to the Budweiser Stage on Sunday\, June 14\, 2026 at 8:00 PM — with none other than Wiz Khalifa joining the lineup for an unforgettable night of music. \n🎟 Buy Tickets Here \n\nAbout the Tour\nMulti-platinum selling artist mgk has announced his highly anticipated 2025 global run — The Lost Americana Tour\, in support of his seventh studio album Lost Americana. Produced by Live Nation\, the tour will highlight mgk’s evolution as one of the most dynamic live performers in the world\, blending rap\, rock\, and alt-pop with the high-energy spectacle that has made his shows legendary. \nAfter smashing records with his Mainstream Sellout Tour — including a historic hometown stadium show in Cleveland — mgk is set to raise the bar yet again. With 20.6+ billion streams worldwide and millions of albums sold\, mgk continues to push boundaries and dominate stages across North America\, Europe\, Australia\, and New Zealand. \nJoining him in Toronto is Wiz Khalifa\, bringing his hit-filled catalog and undeniable energy to the stage. Select dates will also feature rising alt-pop star Julia Wolf\, with special guest appearances from honestav\, Beauty School Dropout\, DE’WAYNE\, Mod Sun\, and Emo Night across the tour. \n\nEvent Details\n\nDate: Sunday\, June 14\, 2026\nTime: 8:00 PM\nVenue: Budweiser Stage — 909 Lake Shore Blvd W\, Toronto\, ON\nAge: All Ages (subject to venue policy)\n\n\nWhy You Can’t Miss This Show\n🔥 A genre-bending spectacle blending rap\, rock\, and alt-pop\n🎤 Wiz Khalifa’s powerhouse performance and collaborations\n🎶 Special guests bringing fresh energy and alt vibes\n🌍 Part of mgk’s biggest global headline run yet \n\n🎟 Secure Your Tickets Now — don’t wait\, Toronto shows sell out fast! \n\n \n \n \n\n\n  \n    🎟 Buy Tickets Now\n  \n\n\nSponsored Ad:
URL:https://talkoftoronto.ca/event/mgk-wiz-khalifa-live-in-concert-at-budweiser-stage-toronto/
LOCATION:Budweiser Stage\, 909 Lake Shore Blvd W\, Toronto\, Ontario\, M6K 3L3\, Canada
CATEGORIES:Concerts & Live Music,Hip Hop,Rock
ATTACH;FMTTYPE=image/png:https://talkoftoronto.ca/wp-content/uploads/2025/10/MGK-Lost-Americana-Tour-Wiz-Khalifa-Toronto-Concert-Event.png
END:VEVENT
END:VCALENDAR