BEGIN:VCALENDAR
VERSION:2.0
PRODID:-//Talk of Toronto - ECPv6.15.20//NONSGML v1.0//EN
CALSCALE:GREGORIAN
METHOD:PUBLISH
X-WR-CALNAME:Talk of Toronto
X-ORIGINAL-URL:https://talkoftoronto.ca
X-WR-CALDESC:Events for Talk of Toronto
REFRESH-INTERVAL;VALUE=DURATION:PT1H
X-Robots-Tag:noindex
X-PUBLISHED-TTL:PT1H
BEGIN:VTIMEZONE
TZID:America/Toronto
BEGIN:DAYLIGHT
TZOFFSETFROM:-0500
TZOFFSETTO:-0400
TZNAME:EDT
DTSTART:20250309T070000
END:DAYLIGHT
BEGIN:STANDARD
TZOFFSETFROM:-0400
TZOFFSETTO:-0500
TZNAME:EST
DTSTART:20251102T060000
END:STANDARD
BEGIN:DAYLIGHT
TZOFFSETFROM:-0500
TZOFFSETTO:-0400
TZNAME:EDT
DTSTART:20260308T070000
END:DAYLIGHT
BEGIN:STANDARD
TZOFFSETFROM:-0400
TZOFFSETTO:-0500
TZNAME:EST
DTSTART:20261101T060000
END:STANDARD
BEGIN:DAYLIGHT
TZOFFSETFROM:-0500
TZOFFSETTO:-0400
TZNAME:EDT
DTSTART:20270314T070000
END:DAYLIGHT
BEGIN:STANDARD
TZOFFSETFROM:-0400
TZOFFSETTO:-0500
TZNAME:EST
DTSTART:20271107T060000
END:STANDARD
END:VTIMEZONE
BEGIN:VEVENT
DTSTART;TZID=America/Toronto:20260218T193000
DTEND;TZID=America/Toronto:20260218T233000
DTSTAMP:20260423T200823
CREATED:20260211T064603Z
LAST-MODIFIED:20260211T065707Z
UID:61738-1771443000-1771457400@talkoftoronto.ca
SUMMARY:Miguel Live in Concert Toronto: The Caos Tour 2026
DESCRIPTION:Miguel: The Caos Tour Live at HISTORY\nThe pioneer of “Art Dealer Chic” is back to redefine the night. \nOn Wednesday\, February 18\, 2026\, Toronto’s east end will witness the return of a true visionary. Miguel is bringing The Caos Tour to HISTORY\, marking his first major headline run in nearly eight years. This isn’t just an R&B concert; it’s a visceral\, high-concept experience that fuses soulful vulnerability with industrial rock and psychedelic energy. \nFollowing the release of his fifth studio album\, CAOS\, Miguel is exploring a darker\, more urgent sound that reflects his personal growth and the “chaos” of the modern world. From the intimate grooves of “Adorn” to the gritty\, guitar-driven anthems of his new era\, this show is designed to be felt as much as it is heard. \nOpening Act: Jean Dawson\nSetting the tone for the night is Jean Dawson\, the experimental powerhouse known for his boundary-pushing blend of alt-rap and indie-pop. His high-kinetic energy is the perfect prelude to Miguel’s transformative set. \n \nEvent Details\n\n\nDate: Wednesday\, February 18\, 2026 \n\n\nVenue: HISTORY\, 1663 Queen St. East\, Toronto \n\n\nDoors: 7:30 PM | Show starts: 8:30 PM \n\n\nAge Requirement: All Ages \n\n\nSupport: Jean Dawson \n\n\nThe HISTORY Experience\nWith its world-class sound system and premier sightlines\, HISTORY offers the perfect canvas for the Caos Tour’s elaborate stage design\, which features striking visual metaphors of defiance and renewal. \n[BUY TICKETS HERE] \n\n \n\n\n  \n    🎟 Buy Tickets Now
URL:https://talkoftoronto.ca/event/miguel-in-concert-toronto-the-caos-tour-live-at-history/
LOCATION:History\, 1663 Queen St. East\, Toronto\, Ontario\, M4L 1G5\,\, Canada
CATEGORIES:Concerts & Live Music,Nightlife & Parties,R&B
ATTACH;FMTTYPE=image/jpeg:https://talkoftoronto.ca/wp-content/uploads/2026/02/Miguel-Concert-in-Toronto-2026.jpg
END:VEVENT
END:VCALENDAR