BEGIN:VCALENDAR
VERSION:2.0
PRODID:-//Talk of Toronto - ECPv6.15.20//NONSGML v1.0//EN
CALSCALE:GREGORIAN
METHOD:PUBLISH
X-WR-CALNAME:Talk of Toronto
X-ORIGINAL-URL:https://talkoftoronto.ca
X-WR-CALDESC:Events for Talk of Toronto
REFRESH-INTERVAL;VALUE=DURATION:PT1H
X-Robots-Tag:noindex
X-PUBLISHED-TTL:PT1H
BEGIN:VTIMEZONE
TZID:America/Toronto
BEGIN:DAYLIGHT
TZOFFSETFROM:-0500
TZOFFSETTO:-0400
TZNAME:EDT
DTSTART:20240310T070000
END:DAYLIGHT
BEGIN:STANDARD
TZOFFSETFROM:-0400
TZOFFSETTO:-0500
TZNAME:EST
DTSTART:20241103T060000
END:STANDARD
BEGIN:DAYLIGHT
TZOFFSETFROM:-0500
TZOFFSETTO:-0400
TZNAME:EDT
DTSTART:20250309T070000
END:DAYLIGHT
BEGIN:STANDARD
TZOFFSETFROM:-0400
TZOFFSETTO:-0500
TZNAME:EST
DTSTART:20251102T060000
END:STANDARD
BEGIN:DAYLIGHT
TZOFFSETFROM:-0500
TZOFFSETTO:-0400
TZNAME:EDT
DTSTART:20260308T070000
END:DAYLIGHT
BEGIN:STANDARD
TZOFFSETFROM:-0400
TZOFFSETTO:-0500
TZNAME:EST
DTSTART:20261101T060000
END:STANDARD
END:VTIMEZONE
BEGIN:VEVENT
DTSTART;TZID=America/Toronto:20250914T150000
DTEND;TZID=America/Toronto:20250914T160000
DTSTAMP:20260424T144107
CREATED:20250905T154958Z
LAST-MODIFIED:20250905T154958Z
UID:59163-1757862000-1757865600@talkoftoronto.ca
SUMMARY:MOOD + MOVEMENT AN R&B WELLNESS EXPERIENCE
DESCRIPTION:Toronto\, it’s your turn. \nAfter a beautiful debut in Bermuda\, we’re bringing Mood + Movement home — a wellness experience that fuses Pilates + R&B into one soulful session. \nGuided by Nicole McFarlane of Movement in Color and soundtracked live by DJ Lissa Monet\, this is not your average class. Expect intentional movement\, a curated playlist of slow jams\, and an energy reset for your mind and body. \n\nDate: Sunday\, September 14\nTime: 3 PM – 4 PM\nTickets: $40\nLocation: 626 King St. W\, 2nd floor\n\nBring your water bottle\, and your good energy. We’ll handle the vibes. \nTickets are limited — secure your spot now. \n[RESERVE YOUR SPOT HERE ] \nSee you on the mat\,\nThat Slow Jam Party
URL:https://talkoftoronto.ca/event/mood-movement-an-rb-wellness-experience/
LOCATION:Peridot Wellness\, 626 King St. W\, 2nd floor\, Toronto\, Ontario\, Canada
CATEGORIES:R&B
ATTACH;FMTTYPE=image/png:https://talkoftoronto.ca/wp-content/uploads/2025/09/MOOD-MOVEMENT-AN-RB-WELLNESS-EXPERIENCE-that-slow-jam-party-toronto.png
END:VEVENT
END:VCALENDAR