BEGIN:VCALENDAR
VERSION:2.0
PRODID:-//Talk of Toronto - ECPv6.15.20//NONSGML v1.0//EN
CALSCALE:GREGORIAN
METHOD:PUBLISH
X-WR-CALNAME:Talk of Toronto
X-ORIGINAL-URL:https://talkoftoronto.ca
X-WR-CALDESC:Events for Talk of Toronto
REFRESH-INTERVAL;VALUE=DURATION:PT1H
X-Robots-Tag:noindex
X-PUBLISHED-TTL:PT1H
BEGIN:VTIMEZONE
TZID:America/Toronto
BEGIN:DAYLIGHT
TZOFFSETFROM:-0500
TZOFFSETTO:-0400
TZNAME:EDT
DTSTART:20240310T070000
END:DAYLIGHT
BEGIN:STANDARD
TZOFFSETFROM:-0400
TZOFFSETTO:-0500
TZNAME:EST
DTSTART:20241103T060000
END:STANDARD
BEGIN:DAYLIGHT
TZOFFSETFROM:-0500
TZOFFSETTO:-0400
TZNAME:EDT
DTSTART:20250309T070000
END:DAYLIGHT
BEGIN:STANDARD
TZOFFSETFROM:-0400
TZOFFSETTO:-0500
TZNAME:EST
DTSTART:20251102T060000
END:STANDARD
BEGIN:DAYLIGHT
TZOFFSETFROM:-0500
TZOFFSETTO:-0400
TZNAME:EDT
DTSTART:20260308T070000
END:DAYLIGHT
BEGIN:STANDARD
TZOFFSETFROM:-0400
TZOFFSETTO:-0500
TZNAME:EST
DTSTART:20261101T060000
END:STANDARD
END:VTIMEZONE
BEGIN:VEVENT
DTSTART;TZID=America/Toronto:20251031T210000
DTEND;TZID=America/Toronto:20251101T020000
DTSTAMP:20260424T061935
CREATED:20251029T140534Z
LAST-MODIFIED:20251101T060336Z
UID:61092-1761944400-1761962400@talkoftoronto.ca
SUMMARY:Mortem Halloween at Rebel Nightclub 2025
DESCRIPTION:Music by Trapment\nCostume Contest: 10k in prizes for the best costume \nDoors: 9:00pm\nThis is a LEGAL AGE 19+ event.  Valid photo ID required. \nEvent tickets are general admission.  All price tiers allow the same access.  All sales are final.  No refunds or exchanges. \n  \n \n\n\n  \n    🎟 Buy Tickets Now
URL:https://talkoftoronto.ca/event/mortem-halloween-rebel-2025/
LOCATION:Rebel Nightclub\, 11 Polson St.\, Toronto\, Ontario\, Canada
CATEGORIES:Dance/Electronic,House / EDM,Nightlife & Parties
ATTACH;FMTTYPE=image/png:https://talkoftoronto.ca/wp-content/uploads/2025/10/MORTEM-HALLOWEEN-Rebel-Toronto-Party-Nightlife-2025.png
END:VEVENT
END:VCALENDAR