BEGIN:VCALENDAR
VERSION:2.0
PRODID:-//Talk of Toronto - ECPv6.15.20//NONSGML v1.0//EN
CALSCALE:GREGORIAN
METHOD:PUBLISH
X-WR-CALNAME:Talk of Toronto
X-ORIGINAL-URL:https://talkoftoronto.ca
X-WR-CALDESC:Events for Talk of Toronto
REFRESH-INTERVAL;VALUE=DURATION:PT1H
X-Robots-Tag:noindex
X-PUBLISHED-TTL:PT1H
BEGIN:VTIMEZONE
TZID:America/Toronto
BEGIN:DAYLIGHT
TZOFFSETFROM:-0500
TZOFFSETTO:-0400
TZNAME:EDT
DTSTART:20240310T070000
END:DAYLIGHT
BEGIN:STANDARD
TZOFFSETFROM:-0400
TZOFFSETTO:-0500
TZNAME:EST
DTSTART:20241103T060000
END:STANDARD
BEGIN:DAYLIGHT
TZOFFSETFROM:-0500
TZOFFSETTO:-0400
TZNAME:EDT
DTSTART:20250309T070000
END:DAYLIGHT
BEGIN:STANDARD
TZOFFSETFROM:-0400
TZOFFSETTO:-0500
TZNAME:EST
DTSTART:20251102T060000
END:STANDARD
BEGIN:DAYLIGHT
TZOFFSETFROM:-0500
TZOFFSETTO:-0400
TZNAME:EDT
DTSTART:20260308T070000
END:DAYLIGHT
BEGIN:STANDARD
TZOFFSETFROM:-0400
TZOFFSETTO:-0500
TZNAME:EST
DTSTART:20261101T060000
END:STANDARD
END:VTIMEZONE
BEGIN:VEVENT
DTSTART;TZID=America/Toronto:20251128T220000
DTEND;TZID=America/Toronto:20251129T020000
DTSTAMP:20260424T160812
CREATED:20251105T051451Z
LAST-MODIFIED:20251105T051724Z
UID:61248-1764367200-1764381600@talkoftoronto.ca
SUMMARY:MUZZ Live at Rebel
DESCRIPTION:Drum & Bass Royalty MUZZ Takes Over NOIR at REBEL!\nGet ready to experience one of the biggest names in the Drum & Bass scene! UK producer and DJ MUZZ (formerly Muzzy) is bringing his signature high-energy\, cinematic sound back to Toronto for an intense night of bass\, beats\, and blistering energy. \nKnown for his unique Hybrid Drum & Bass style—a powerful fusion of D&B\, industrial rock\, and orchestral elements—MUZZ has dominated charts and stages worldwide\, becoming a staple on labels like Monstercat. Prepare for massive drops\, complex rhythms\, and a set that will keep you moving until the early hours. \nThe party goes down in NOIR\, the luxurious\, second-floor venue inside REBEL\, which boasts an intimate club atmosphere and stunning panoramic views of the Toronto skyline. Don’t miss this one-night takeover! \n\nMUZZ Live at NOIR (inside REBEL)\n\nWHAT: MUZZ\nWHEN: Friday\, November 28\, 2025\nDOORS: 10:00 PM EST\nWHERE: NOIR (inside REBEL) – 11 Polson Street\, Toronto\, ON M5A 1A4\nAGE: 19+ Event\nTICKETS: Secure Your Spot Here!\n\n#TalkofToronto #TorontoEvents #TorontoNightlife #MUZZ #DrumAndBass #DnB #ElectronicMusic #REBELToronto #NOIR #TorontoConcerts \n  \n\n \n\n\n  \n    🎟 Buy Tickets Now
URL:https://talkoftoronto.ca/event/muzz-live-at-rebel-toronto-2025/
LOCATION:NOIR (inside REBEL)\, Toronto
CATEGORIES:Dance/Electronic,Nightlife & Parties
ATTACH;FMTTYPE=image/png:https://talkoftoronto.ca/wp-content/uploads/2025/11/unnamed-file.png
END:VEVENT
END:VCALENDAR