BEGIN:VCALENDAR
VERSION:2.0
PRODID:-//Talk of Toronto - ECPv6.15.20//NONSGML v1.0//EN
CALSCALE:GREGORIAN
METHOD:PUBLISH
X-WR-CALNAME:Talk of Toronto
X-ORIGINAL-URL:https://talkoftoronto.ca
X-WR-CALDESC:Events for Talk of Toronto
REFRESH-INTERVAL;VALUE=DURATION:PT1H
X-Robots-Tag:noindex
X-PUBLISHED-TTL:PT1H
BEGIN:VTIMEZONE
TZID:America/Toronto
BEGIN:DAYLIGHT
TZOFFSETFROM:-0500
TZOFFSETTO:-0400
TZNAME:EDT
DTSTART:20230312T070000
END:DAYLIGHT
BEGIN:STANDARD
TZOFFSETFROM:-0400
TZOFFSETTO:-0500
TZNAME:EST
DTSTART:20231105T060000
END:STANDARD
BEGIN:DAYLIGHT
TZOFFSETFROM:-0500
TZOFFSETTO:-0400
TZNAME:EDT
DTSTART:20240310T070000
END:DAYLIGHT
BEGIN:STANDARD
TZOFFSETFROM:-0400
TZOFFSETTO:-0500
TZNAME:EST
DTSTART:20241103T060000
END:STANDARD
BEGIN:DAYLIGHT
TZOFFSETFROM:-0500
TZOFFSETTO:-0400
TZNAME:EDT
DTSTART:20250309T070000
END:DAYLIGHT
BEGIN:STANDARD
TZOFFSETFROM:-0400
TZOFFSETTO:-0500
TZNAME:EST
DTSTART:20251102T060000
END:STANDARD
END:VTIMEZONE
BEGIN:VEVENT
DTSTART;TZID=America/Toronto:20240927T223000
DTEND;TZID=America/Toronto:20240928T023000
DTSTAMP:20260423T213909
CREATED:20240909T135638Z
LAST-MODIFIED:20240909T135638Z
UID:56249-1727476200-1727490600@talkoftoronto.ca
SUMMARY:NINETIES BY NATURE - Part 7
DESCRIPTION:Talk of Toronto Featured Event: NINETIES BY NATURE- Part 7\nThe Smith House – Friday September 27th\, 2024 \nIf you love ttheh 90s Vibe or the early 2000s then this party is where you need to be every month.\nFor more information follow us on Instagram @nbn_toronto \n  \nMusic\nTop 40\, Hip Hop\, R&B\, Reggae\, Soca\, Calypso\, Dance Hall\, House\, Reggaeton\, Pop\, Retro 90’s \n  \nDJ’s\nChannel 9\, Kid C and Jayonline \n  \nMCs or Hosts\nScott Boogie \n  \nDress Code\nCasual (No Grey Tracks\, Sleeves Required for men\, Fashion Forward Encouraged)
URL:https://talkoftoronto.ca/event/nineties-by-nature-part7-toronto-oldschool-party/
LOCATION:The Smith House\, 171 College St\, Toronto\, Ontario\, Canada
CATEGORIES:Hip Hop,Old School
ATTACH;FMTTYPE=image/jpeg:https://talkoftoronto.ca/wp-content/uploads/2024/09/NINETIES-BY-NATURE-Part-7-sept-27-2024-kid-c-Toronto-Olschool-Party-Event.jpg
END:VEVENT
END:VCALENDAR