BEGIN:VCALENDAR
VERSION:2.0
PRODID:-//Talk of Toronto - ECPv6.15.20//NONSGML v1.0//EN
CALSCALE:GREGORIAN
METHOD:PUBLISH
X-WR-CALNAME:Talk of Toronto
X-ORIGINAL-URL:https://talkoftoronto.ca
X-WR-CALDESC:Events for Talk of Toronto
REFRESH-INTERVAL;VALUE=DURATION:PT1H
X-Robots-Tag:noindex
X-PUBLISHED-TTL:PT1H
BEGIN:VTIMEZONE
TZID:America/Toronto
BEGIN:DAYLIGHT
TZOFFSETFROM:-0500
TZOFFSETTO:-0400
TZNAME:EDT
DTSTART:20240310T070000
END:DAYLIGHT
BEGIN:STANDARD
TZOFFSETFROM:-0400
TZOFFSETTO:-0500
TZNAME:EST
DTSTART:20241103T060000
END:STANDARD
BEGIN:DAYLIGHT
TZOFFSETFROM:-0500
TZOFFSETTO:-0400
TZNAME:EDT
DTSTART:20250309T070000
END:DAYLIGHT
BEGIN:STANDARD
TZOFFSETFROM:-0400
TZOFFSETTO:-0500
TZNAME:EST
DTSTART:20251102T060000
END:STANDARD
BEGIN:DAYLIGHT
TZOFFSETFROM:-0500
TZOFFSETTO:-0400
TZNAME:EDT
DTSTART:20260308T070000
END:DAYLIGHT
BEGIN:STANDARD
TZOFFSETFROM:-0400
TZOFFSETTO:-0500
TZNAME:EST
DTSTART:20261101T060000
END:STANDARD
END:VTIMEZONE
BEGIN:VEVENT
DTSTART;TZID=America/Toronto:20250725T220000
DTEND;TZID=America/Toronto:20250726T023000
DTSTAMP:20260424T090436
CREATED:20250725T130118Z
LAST-MODIFIED:20250725T140143Z
UID:58328-1753480800-1753497000@talkoftoronto.ca
SUMMARY:NINETIES BY NATURE WEST
DESCRIPTION:Friday\, July 25\n\n\n\nNINETIES BY NATURE WEST\n\n\n\n\n\nAges 19+\n\n\n\n\n\n\n\n\nNBN is hitting the road & heading WEST to the 905. Come join us Friday July 25 as we bring back all the nostalgia & vibes outside!
URL:https://talkoftoronto.ca/event/nineties-by-nature-west-july-2025/
LOCATION:Dirty Martini Oakville\, 2075 Winston Park Dr\, Oakville\, Ontario\, L6H 5R7\, Canada
CATEGORIES:Old School
ATTACH;FMTTYPE=image/jpeg:https://talkoftoronto.ca/wp-content/uploads/2025/07/NINETIES-BY-NATURE-WEST-July-2025.jpg
END:VEVENT
END:VCALENDAR