BEGIN:VCALENDAR
VERSION:2.0
PRODID:-//Talk of Toronto - ECPv6.15.20//NONSGML v1.0//EN
CALSCALE:GREGORIAN
METHOD:PUBLISH
X-WR-CALNAME:Talk of Toronto
X-ORIGINAL-URL:https://talkoftoronto.ca
X-WR-CALDESC:Events for Talk of Toronto
REFRESH-INTERVAL;VALUE=DURATION:PT1H
X-Robots-Tag:noindex
X-PUBLISHED-TTL:PT1H
BEGIN:VTIMEZONE
TZID:America/Toronto
BEGIN:DAYLIGHT
TZOFFSETFROM:-0500
TZOFFSETTO:-0400
TZNAME:EDT
DTSTART:20240310T070000
END:DAYLIGHT
BEGIN:STANDARD
TZOFFSETFROM:-0400
TZOFFSETTO:-0500
TZNAME:EST
DTSTART:20241103T060000
END:STANDARD
BEGIN:DAYLIGHT
TZOFFSETFROM:-0500
TZOFFSETTO:-0400
TZNAME:EDT
DTSTART:20250309T070000
END:DAYLIGHT
BEGIN:STANDARD
TZOFFSETFROM:-0400
TZOFFSETTO:-0500
TZNAME:EST
DTSTART:20251102T060000
END:STANDARD
BEGIN:DAYLIGHT
TZOFFSETFROM:-0500
TZOFFSETTO:-0400
TZNAME:EDT
DTSTART:20260308T070000
END:DAYLIGHT
BEGIN:STANDARD
TZOFFSETFROM:-0400
TZOFFSETTO:-0500
TZNAME:EST
DTSTART:20261101T060000
END:STANDARD
END:VTIMEZONE
BEGIN:VEVENT
DTSTART;TZID=America/Toronto:20250213T200000
DTEND;TZID=America/Toronto:20250213T233000
DTSTAMP:20260423T202008
CREATED:20250102T165811Z
LAST-MODIFIED:20250102T170100Z
UID:57136-1739476800-1739489400@talkoftoronto.ca
SUMMARY:Onyx\, Lords Of The Underground\, and JD Era Toronto Concert 2025
DESCRIPTION:Onyx\, Lords Of The Underground\, JD Era\, Daniel Son\, Ayoo Biggz\, and Michelle Visa Take The Stage Live  in Concert At Lee’s Palace!\n@jd_era @roadmanproductions Presents @onyx_hq and @lotug1 Live In Toronto Thursday\, Feb 13th at @leespalace!!! Featuring Performances by @jd_era @dissbbm @its_ayoo_bigz @michellevisa \nMusic By\n@djlaw3000 \nHosted By\n@fridayrickydred \nEarly Bird Tickets Available Now!!! \nLet’s Start The Year Off Right! 2025!!!
URL:https://talkoftoronto.ca/event/onyx-lords-of-the-underground-and-jd-era-toronto-concert-2025/
LOCATION:Lee’s Palace\, 529 Bloor Street West\, Toronto\, Ontario\, M5S 1Y5\, Canada
CATEGORIES:Hip Hop
ATTACH;FMTTYPE=image/jpeg:https://talkoftoronto.ca/wp-content/uploads/2025/01/Onyx-Lords-Of-The-Underground-JD-Era-Live-At-Lees-Palace-Toronto-HipHop-Concert-Event.jpg
END:VEVENT
END:VCALENDAR