BEGIN:VCALENDAR
VERSION:2.0
PRODID:-//Talk of Toronto - ECPv6.15.20//NONSGML v1.0//EN
CALSCALE:GREGORIAN
METHOD:PUBLISH
X-WR-CALNAME:Talk of Toronto
X-ORIGINAL-URL:https://talkoftoronto.ca
X-WR-CALDESC:Events for Talk of Toronto
REFRESH-INTERVAL;VALUE=DURATION:PT1H
X-Robots-Tag:noindex
X-PUBLISHED-TTL:PT1H
BEGIN:VTIMEZONE
TZID:America/Toronto
BEGIN:DAYLIGHT
TZOFFSETFROM:-0500
TZOFFSETTO:-0400
TZNAME:EDT
DTSTART:20230312T070000
END:DAYLIGHT
BEGIN:STANDARD
TZOFFSETFROM:-0400
TZOFFSETTO:-0500
TZNAME:EST
DTSTART:20231105T060000
END:STANDARD
BEGIN:DAYLIGHT
TZOFFSETFROM:-0500
TZOFFSETTO:-0400
TZNAME:EDT
DTSTART:20240310T070000
END:DAYLIGHT
BEGIN:STANDARD
TZOFFSETFROM:-0400
TZOFFSETTO:-0500
TZNAME:EST
DTSTART:20241103T060000
END:STANDARD
BEGIN:DAYLIGHT
TZOFFSETFROM:-0500
TZOFFSETTO:-0400
TZNAME:EDT
DTSTART:20250309T070000
END:DAYLIGHT
BEGIN:STANDARD
TZOFFSETFROM:-0400
TZOFFSETTO:-0500
TZNAME:EST
DTSTART:20251102T060000
END:STANDARD
END:VTIMEZONE
BEGIN:VEVENT
DTSTART;TZID=America/Toronto:20241019T183000
DTEND;TZID=America/Toronto:20241020T020000
DTSTAMP:20260423T224132
CREATED:20240921T081453Z
LAST-MODIFIED:20240921T082530Z
UID:56374-1729362600-1729389600@talkoftoronto.ca
SUMMARY:OPULENCE
DESCRIPTION:Talk of Toronto Featured Event: OPULENCE\nA unique evening experience where tastemakers alike can exchange their love of formal fashion attire paired with a sophisticated palate of artisan fare. This curated experience – like no other\, has ushered in and set a new elevated standard in Toronto’s social atmosphere as we celebrate amongst Family & Friends. \nSaturday\, October 19th 2024 \nVenue TBA ! \n5:00pm – 12:00am\n(Ticket Event Only) \nOur Limited $50.00 Advanced Tickets Are Now Available Until September 26th 2024\, At That Point Tickets Will Transition To Regular Price… \n \nFor VIP Table Reservation\nInfo@TalkofToronto.ca
URL:https://talkoftoronto.ca/event/opulence-party-toronto/
CATEGORIES:Hip Hop,R&B,Reggae & Dancehall
ATTACH;FMTTYPE=image/png:https://talkoftoronto.ca/wp-content/uploads/2024/09/opulence-formal-party-toronto-2024.png
END:VEVENT
END:VCALENDAR