BEGIN:VCALENDAR
VERSION:2.0
PRODID:-//Talk of Toronto - ECPv6.15.20//NONSGML v1.0//EN
CALSCALE:GREGORIAN
METHOD:PUBLISH
X-WR-CALNAME:Talk of Toronto
X-ORIGINAL-URL:https://talkoftoronto.ca
X-WR-CALDESC:Events for Talk of Toronto
REFRESH-INTERVAL;VALUE=DURATION:PT1H
X-Robots-Tag:noindex
X-PUBLISHED-TTL:PT1H
BEGIN:VTIMEZONE
TZID:America/Toronto
BEGIN:DAYLIGHT
TZOFFSETFROM:-0500
TZOFFSETTO:-0400
TZNAME:EDT
DTSTART:20240310T070000
END:DAYLIGHT
BEGIN:STANDARD
TZOFFSETFROM:-0400
TZOFFSETTO:-0500
TZNAME:EST
DTSTART:20241103T060000
END:STANDARD
BEGIN:DAYLIGHT
TZOFFSETFROM:-0500
TZOFFSETTO:-0400
TZNAME:EDT
DTSTART:20250309T070000
END:DAYLIGHT
BEGIN:STANDARD
TZOFFSETFROM:-0400
TZOFFSETTO:-0500
TZNAME:EST
DTSTART:20251102T060000
END:STANDARD
BEGIN:DAYLIGHT
TZOFFSETFROM:-0500
TZOFFSETTO:-0400
TZNAME:EDT
DTSTART:20260308T070000
END:DAYLIGHT
BEGIN:STANDARD
TZOFFSETFROM:-0400
TZOFFSETTO:-0500
TZNAME:EST
DTSTART:20261101T060000
END:STANDARD
END:VTIMEZONE
BEGIN:VEVENT
DTSTART;TZID=America/Toronto:20251030T193000
DTEND;TZID=America/Toronto:20251031T020000
DTSTAMP:20260424T120313
CREATED:20251029T141836Z
LAST-MODIFIED:20251031T044232Z
UID:61094-1761852600-1761876000@talkoftoronto.ca
SUMMARY:OsamaSon Live Concert in Toronto - Psykotic Tour
DESCRIPTION:🚨 OsamaSon – Psykotic Tour Hits REBEL Toronto 🚨\nGet ready for an explosion of new-wave rage rap! The highly anticipated OsamaSon – Psykotic Tour is making a stop at REBEL Toronto this October. \nFollowing the acclaimed release of his frenetic new album\, psykotic\, the South Carolina rapper is known for his chaotic\, energy-driven delivery and for sparking the wildest mosh pits. This is an event you won’t want to miss! \nJoin the cult-like fanbase for an unforgettable night of hard-hitting beats and electrifying performance. \n\n🎶 Event Details\n\nArtist: OsamaSon\nTour: Psykotic Tour\nDate: Thursday\, October 30\, 2025\nVenue: REBEL\, Toronto\, ON\nDoors: 7:30 PM\nInfo: This is an ALL AGES event (19+ mezzanine available).\n\n\n🎟️ Get Your Tickets Now!\nSecure your spot for the most essential rage rap show of the season. Tickets are moving fast! \n➡️ BUY TICKETS HERE \n\n \n  \n\n  \n\n \n\n\n  \n    🎟 Buy Tickets Now
URL:https://talkoftoronto.ca/event/osamason-psykotic-tour-toronto-concert/
LOCATION:Rebel Nightclub\, 11 Polson St.\, Toronto\, Ontario\, Canada
CATEGORIES:Concerts & Live Music,Hip-Hop/Rap
ATTACH;FMTTYPE=image/jpeg:https://talkoftoronto.ca/wp-content/uploads/2025/10/unnamed-file-5.jpg
END:VEVENT
END:VCALENDAR