BEGIN:VCALENDAR
VERSION:2.0
PRODID:-//Talk of Toronto - ECPv6.15.20//NONSGML v1.0//EN
CALSCALE:GREGORIAN
METHOD:PUBLISH
X-WR-CALNAME:Talk of Toronto
X-ORIGINAL-URL:https://talkoftoronto.ca
X-WR-CALDESC:Events for Talk of Toronto
REFRESH-INTERVAL;VALUE=DURATION:PT1H
X-Robots-Tag:noindex
X-PUBLISHED-TTL:PT1H
BEGIN:VTIMEZONE
TZID:America/Toronto
BEGIN:DAYLIGHT
TZOFFSETFROM:-0500
TZOFFSETTO:-0400
TZNAME:EDT
DTSTART:20230312T070000
END:DAYLIGHT
BEGIN:STANDARD
TZOFFSETFROM:-0400
TZOFFSETTO:-0500
TZNAME:EST
DTSTART:20231105T060000
END:STANDARD
BEGIN:DAYLIGHT
TZOFFSETFROM:-0500
TZOFFSETTO:-0400
TZNAME:EDT
DTSTART:20240310T070000
END:DAYLIGHT
BEGIN:STANDARD
TZOFFSETFROM:-0400
TZOFFSETTO:-0500
TZNAME:EST
DTSTART:20241103T060000
END:STANDARD
BEGIN:DAYLIGHT
TZOFFSETFROM:-0500
TZOFFSETTO:-0400
TZNAME:EDT
DTSTART:20250309T070000
END:DAYLIGHT
BEGIN:STANDARD
TZOFFSETFROM:-0400
TZOFFSETTO:-0500
TZNAME:EST
DTSTART:20251102T060000
END:STANDARD
END:VTIMEZONE
BEGIN:VEVENT
DTSTART;TZID=America/Toronto:20240615T180000
DTEND;TZID=America/Toronto:20240615T220000
DTSTAMP:20260423T200608
CREATED:20240511T171219Z
LAST-MODIFIED:20240511T171942Z
UID:55040-1718474400-1718488800@talkoftoronto.ca
SUMMARY:PATRICE ROBERTS - I AM WOMAN TORONTO 2024
DESCRIPTION:PATRICE ROBERTS – I AM WOMAN TORONTO 2024\nThe PATRICE ROBERTS signature concert is coming to Toronto on Saturday June 15th 2024 at REBEL (11 Polson Street) \nStronger TogetHER \nThe evolution of Patrice Roberts continues. Explore her  and her  for  with her  fans. \nThis is PATRICE with a LIVE BAND and some special guests! \n19+ // ID Required \n@patriceroberts1 \nIndulge in the Stronger TogetHER VIP Experience available on both ticket outlets (Separate Entrance + Elevated View of Stage + A Patrice Roberts Party Favour) \nVIP Booths are available exclusively via @torontolime \n \n#PatriceRobertsConcert #IAmWoman #IAmWomanToronto #StrongerTogetHER #AyeAyeAye #PatriceAgain
URL:https://talkoftoronto.ca/event/patrice-roberts-i-am-woman-toronto-2024/
LOCATION:Rebel Nightclub\, 11 Polson St.\, Toronto\, Ontario\, Canada
CATEGORIES:Soca
ATTACH;FMTTYPE=image/jpeg:https://talkoftoronto.ca/wp-content/uploads/2024/05/PATRICE-ROBERTS-I-AM-WOMAN-TORONTO-2024-Soca_Fete-Party-Nightlife.jpeg
END:VEVENT
END:VCALENDAR