BEGIN:VCALENDAR
VERSION:2.0
PRODID:-//Talk of Toronto - ECPv6.15.20//NONSGML v1.0//EN
CALSCALE:GREGORIAN
METHOD:PUBLISH
X-WR-CALNAME:Talk of Toronto
X-ORIGINAL-URL:https://talkoftoronto.ca
X-WR-CALDESC:Events for Talk of Toronto
REFRESH-INTERVAL;VALUE=DURATION:PT1H
X-Robots-Tag:noindex
X-PUBLISHED-TTL:PT1H
BEGIN:VTIMEZONE
TZID:America/Toronto
BEGIN:DAYLIGHT
TZOFFSETFROM:-0500
TZOFFSETTO:-0400
TZNAME:EDT
DTSTART:20250309T070000
END:DAYLIGHT
BEGIN:STANDARD
TZOFFSETFROM:-0400
TZOFFSETTO:-0500
TZNAME:EST
DTSTART:20251102T060000
END:STANDARD
BEGIN:DAYLIGHT
TZOFFSETFROM:-0500
TZOFFSETTO:-0400
TZNAME:EDT
DTSTART:20260308T070000
END:DAYLIGHT
BEGIN:STANDARD
TZOFFSETFROM:-0400
TZOFFSETTO:-0500
TZNAME:EST
DTSTART:20261101T060000
END:STANDARD
BEGIN:DAYLIGHT
TZOFFSETFROM:-0500
TZOFFSETTO:-0400
TZNAME:EDT
DTSTART:20270314T070000
END:DAYLIGHT
BEGIN:STANDARD
TZOFFSETFROM:-0400
TZOFFSETTO:-0500
TZNAME:EST
DTSTART:20271107T060000
END:STANDARD
END:VTIMEZONE
BEGIN:VEVENT
DTSTART;TZID=America/Toronto:20260616T193000
DTEND;TZID=America/Toronto:20260617T000000
DTSTAMP:20260423T195845
CREATED:20260210T183839Z
LAST-MODIFIED:20260324T162043Z
UID:61674-1781638200-1781654400@talkoftoronto.ca
SUMMARY:Post Malone x Jelly Roll Toronto Concert: The Big Ass Stadium Tour 2
DESCRIPTION:Post Malone & Jelly Roll Bring “The Big Ass Stadium Tour 2” to Toronto’s Newest Venue\nToronto\, get ready for the ultimate summer blowout. \nOn Tuesday\, June 16\, 2026\, the skies over Downsview will erupt as Post Malone and Jelly Roll bring The Big Ass Stadium Tour 2 to the brand-new Rogers Stadium. This isn’t just a concert; it’s a high-energy\, genre-blurring celebration featuring two of the biggest names in music today. \nFresh off their record-breaking collaborations and individual chart-topping success\, Posty and Jelly are teaming up to prove that bigger truly is better. Joining them is rising star Carter Faith\, whose modern country-noir sound is the perfect spark to ignite the night. \n \nThe Venue: Rogers Stadium (YZD)\nAs one of the first major events at Toronto’s newest open-air venue\, this show promises an unparalleled atmosphere. Located at the historic Downsview lands\, Rogers Stadium is designed for massive production\, meaning every pyrotechnic\, guitar riff\, and “stadium-sized” singalong will be felt throughout the city. \nThe Lineup\n\n\nPost Malone: Delivering a career-spanning set from “Sunflower” and “Rockstar” to his latest country-infused anthems. \n\n\nJelly Roll: Bringing the soul and grit of Beautifully Broken to the massive Toronto crowd. \n\n\nCarter Faith: Setting the stage with the storytelling and grace that has made her country’s newest “must-watch” artist. \n\n\nEvent Details\n\n\nDate: Tuesday\, June 16\, 2026 \n\n\nVenue: Rogers Stadium\, Toronto (YZD/Downsview) \n\n\nDoors: 6:00 PM | Showtime: 7:30 PM \n\n\nTickets: On sale now. \n\n\nWhether you’re there for the tattoos\, the beer-soaked anthems\, or the raw emotion of Jelly Roll’s lyrics\, this is the defining event of Toronto’s 2026 summer concert season. Don’t miss your chance to be part of the madness. \n[BUY TICKETS HERE] \n\n\n \n\n\n  \n    🎟 Buy Tickets Now\n  \n\n\nShow some love to our Sponsored Ad:
URL:https://talkoftoronto.ca/event/post-malone-x-jelly-roll-toronto-concert-the-big-ass-stadium-tour-2/
LOCATION:Rogers Stadium\, 105 Carl Hall Road\, Toronto\, Ontario\, ToM3K0A1\, Canada
CATEGORIES:Concerts & Live Music,Country Music,Rock
ATTACH;FMTTYPE=image/webp:https://talkoftoronto.ca/wp-content/uploads/2026/02/postmalone-jellyroll-carterfaith-concert-toronto.webp
END:VEVENT
END:VCALENDAR