BEGIN:VCALENDAR
VERSION:2.0
PRODID:-//Talk of Toronto - ECPv6.15.20//NONSGML v1.0//EN
CALSCALE:GREGORIAN
METHOD:PUBLISH
X-WR-CALNAME:Talk of Toronto
X-ORIGINAL-URL:https://talkoftoronto.ca
X-WR-CALDESC:Events for Talk of Toronto
REFRESH-INTERVAL;VALUE=DURATION:PT1H
X-Robots-Tag:noindex
X-PUBLISHED-TTL:PT1H
BEGIN:VTIMEZONE
TZID:America/Toronto
BEGIN:DAYLIGHT
TZOFFSETFROM:-0500
TZOFFSETTO:-0400
TZNAME:EDT
DTSTART:20240310T070000
END:DAYLIGHT
BEGIN:STANDARD
TZOFFSETFROM:-0400
TZOFFSETTO:-0500
TZNAME:EST
DTSTART:20241103T060000
END:STANDARD
BEGIN:DAYLIGHT
TZOFFSETFROM:-0500
TZOFFSETTO:-0400
TZNAME:EDT
DTSTART:20250309T070000
END:DAYLIGHT
BEGIN:STANDARD
TZOFFSETFROM:-0400
TZOFFSETTO:-0500
TZNAME:EST
DTSTART:20251102T060000
END:STANDARD
BEGIN:DAYLIGHT
TZOFFSETFROM:-0500
TZOFFSETTO:-0400
TZNAME:EDT
DTSTART:20260308T070000
END:DAYLIGHT
BEGIN:STANDARD
TZOFFSETFROM:-0400
TZOFFSETTO:-0500
TZNAME:EST
DTSTART:20261101T060000
END:STANDARD
END:VTIMEZONE
BEGIN:VEVENT
DTSTART;TZID=America/Toronto:20251101T183000
DTEND;TZID=America/Toronto:20251101T230000
DTSTAMP:20260424T023855
CREATED:20251029T010623Z
LAST-MODIFIED:20251029T010931Z
UID:61117-1762021800-1762038000@talkoftoronto.ca
SUMMARY:PSYCHO HALLOWEEN COSTUME PARTY 2025
DESCRIPTION:Get ready to unleash your inner psycho with our Halloween costume party – it’s gonna be a wild night of spooky fun!\n\n\n“PSYCHO ” ‘ THE BIGGEST HALLOWEEN NIGHT COSTUME PARTY \nSATURDAY November 1st 2025 HALLOWEEN NIGHT! \nIf you remember or missed the OUR MASSIVE PSYCHO HALLOWEEN COSTUME PARTY EVENT LAST YEAR! \, then you MUST attend! This year we are in The BIGGEEST venue with room for 1000+ people DOWNTOWN TORONTO . Get your Costume Ready and prepare to Party It Up all night Long! Spooky Decor TOP end Sound And Lighting Playing The Best In GHOULISH Hip Hop x Rnb x Top 40x Soca x Reggae x Afrobeats All Night Long . Get Ready and get Creative! THIS WILL BE THE BIGGEST PARTY ON THE CNE GROUNDS DOWNTOWN TORONTO! \nTORONTO’S NEWEST NIGHT CLUB ACQUA SUPPER CLUB***** \nMusic By: \nDJ BWARE X DJ DIMES X JUDGMENT DAY \nHOSTED BY WORM DA MC AND AARON CJ HASTINGS \n  \nBooths & Bottle Services Available \n($100 Deposit Required – TICKETS PURCHSED SEPARATE ) BOTTLE SERVICE WILL HAVE A DEDICATED VIP ENTRANCE) \nADMISSION: $50 AT THE DOOR \n  \nPSA: You don’t have to wear a Costume to enter as we are accepting EVERYONE\, but why not its Halloween! \nCALL 416 564 0639 FOR INFO OR TO BOOK YOUR BOOTHS– THE BIGGEST HALLOWEEN NIGHT COSTUME BASH NOVEMBER 1ST INSIDE ACQUA \n\n\n\n \n\n\n  \n    🎟 Buy Tickets Now
URL:https://talkoftoronto.ca/event/psycho-halloween-costume-party-2025/
LOCATION:Acqua Supper Club\, 50 Prince Edward Island Crescent\, Toronto\, ON M6K 3C3\, Toronto\, M6K 3C3\, CA
CATEGORIES:Hip-Hop/Rap,Reggae & Dancehall
ATTACH;FMTTYPE=image/jpeg:https://talkoftoronto.ca/wp-content/uploads/2025/10/61117_image.jpg
END:VEVENT
END:VCALENDAR