BEGIN:VCALENDAR
VERSION:2.0
PRODID:-//Talk of Toronto - ECPv6.15.20//NONSGML v1.0//EN
CALSCALE:GREGORIAN
METHOD:PUBLISH
X-WR-CALNAME:Talk of Toronto
X-ORIGINAL-URL:https://talkoftoronto.ca
X-WR-CALDESC:Events for Talk of Toronto
REFRESH-INTERVAL;VALUE=DURATION:PT1H
X-Robots-Tag:noindex
X-PUBLISHED-TTL:PT1H
BEGIN:VTIMEZONE
TZID:America/Toronto
BEGIN:DAYLIGHT
TZOFFSETFROM:-0500
TZOFFSETTO:-0400
TZNAME:EDT
DTSTART:20240310T070000
END:DAYLIGHT
BEGIN:STANDARD
TZOFFSETFROM:-0400
TZOFFSETTO:-0500
TZNAME:EST
DTSTART:20241103T060000
END:STANDARD
BEGIN:DAYLIGHT
TZOFFSETFROM:-0500
TZOFFSETTO:-0400
TZNAME:EDT
DTSTART:20250309T070000
END:DAYLIGHT
BEGIN:STANDARD
TZOFFSETFROM:-0400
TZOFFSETTO:-0500
TZNAME:EST
DTSTART:20251102T060000
END:STANDARD
BEGIN:DAYLIGHT
TZOFFSETFROM:-0500
TZOFFSETTO:-0400
TZNAME:EDT
DTSTART:20260308T070000
END:DAYLIGHT
BEGIN:STANDARD
TZOFFSETFROM:-0400
TZOFFSETTO:-0500
TZNAME:EST
DTSTART:20261101T060000
END:STANDARD
END:VTIMEZONE
BEGIN:VEVENT
DTSTART;TZID=America/Toronto:20251202T190000
DTEND;TZID=America/Toronto:20251202T233000
DTSTAMP:20260424T035049
CREATED:20250912T025350Z
LAST-MODIFIED:20251001T024936Z
UID:59291-1764702000-1764718200@talkoftoronto.ca
SUMMARY:Raekwon & Mobb Deep Live in Concert - Toronto
DESCRIPTION:🎤 Featured Toronto Concert Event: Raekwon & Mobb Deep — 30th Anniversary Tour \nToronto\, get ready for a legendary night as Raekwon & Havoc of Mobb Deep take the stage to celebrate 30 years of iconic hip-hop with Only Built 4 Cuban Linx… and The Infamous. \n \n\n🗓️ When & Where\nDate: Tuesday\, December 2\, 2025\nDoors Open: 7:00 PM\nShow Starts: 8:00 PM\nVenue: HISTORY\, Toronto\, ON \n\n🎵 About the Show \n\nCo-headlining anniversary tour marking two of the greatest ’90s hip-hop albums — Raekwon’s Only Built 4 Cuban Linx… and Mobb Deep’s The Infamous.\nRare Canadian tour date — a must-see moment for true hip-hop fans.\n\n\n🎟️ Tickets & Packages \n\n– General admission and seated tickets available.\n–VIP packages offer premium seating and exclusive perks.\n– Early arrival recommended — doors open one hour before showtime.\nClick Here to Buy Tickets\n\n\n🌟 Why You Should Be There \n\nWitness live performances of era-defining albums that shaped East Coast hip-hop.\nHavoc keeps the Mobb Deep legacy alive\, honoring the late Prodigy.\nA night that blends nostalgia with raw energy — perfect for longtime fans and the new generation.\n\n\n✅ Tips for Attendees \n\nArrive early to avoid long entry lines and catch the openers.\nConsider rideshare or public transit — parking near HISTORY is limited.\nHave valid photo ID ready for entry.\nDress comfortable but stylish — this will be a true hip-hop celebration.\n\n \n \n \n\n\n  \n    🎟 Buy Tickets Now
URL:https://talkoftoronto.ca/event/raekwon-mobb-deep-live-in-concert-toronto-2025/
LOCATION:History\, 1663 Queen St. East\, Toronto\, Ontario\, M4L 1G5\,\, Canada
CATEGORIES:Hip Hop
ATTACH;FMTTYPE=image/avif:https://talkoftoronto.ca/wp-content/uploads/2025/09/raekwon-mobb-deep-toronto-concert.avif
END:VEVENT
END:VCALENDAR