BEGIN:VCALENDAR
VERSION:2.0
PRODID:-//Talk of Toronto - ECPv6.15.20//NONSGML v1.0//EN
CALSCALE:GREGORIAN
METHOD:PUBLISH
X-WR-CALNAME:Talk of Toronto
X-ORIGINAL-URL:https://talkoftoronto.ca
X-WR-CALDESC:Events for Talk of Toronto
REFRESH-INTERVAL;VALUE=DURATION:PT1H
X-Robots-Tag:noindex
X-PUBLISHED-TTL:PT1H
BEGIN:VTIMEZONE
TZID:America/Toronto
BEGIN:DAYLIGHT
TZOFFSETFROM:-0500
TZOFFSETTO:-0400
TZNAME:EDT
DTSTART:20240310T070000
END:DAYLIGHT
BEGIN:STANDARD
TZOFFSETFROM:-0400
TZOFFSETTO:-0500
TZNAME:EST
DTSTART:20241103T060000
END:STANDARD
BEGIN:DAYLIGHT
TZOFFSETFROM:-0500
TZOFFSETTO:-0400
TZNAME:EDT
DTSTART:20250309T070000
END:DAYLIGHT
BEGIN:STANDARD
TZOFFSETFROM:-0400
TZOFFSETTO:-0500
TZNAME:EST
DTSTART:20251102T060000
END:STANDARD
BEGIN:DAYLIGHT
TZOFFSETFROM:-0500
TZOFFSETTO:-0400
TZNAME:EDT
DTSTART:20260308T070000
END:DAYLIGHT
BEGIN:STANDARD
TZOFFSETFROM:-0400
TZOFFSETTO:-0500
TZNAME:EST
DTSTART:20261101T060000
END:STANDARD
END:VTIMEZONE
BEGIN:VEVENT
DTSTART;TZID=America/Toronto:20250714T150000
DTEND;TZID=America/Toronto:20250714T180000
DTSTAMP:20260424T011543
CREATED:20250704T215921Z
LAST-MODIFIED:20250704T215921Z
UID:58288-1752505200-1752516000@talkoftoronto.ca
SUMMARY:Raekwon Purple Tape - 30 Year Celebration (Toronto Pop-Up Event)
DESCRIPTION:🟣 Raekwon – 30th Anniversary of The Purple Tape (Toronto Pop-Up Event)\nPresented by: @Raekwon | @611purplefactory📅 Date: Monday\, July 14\, 2025🕒 Time: 3:00 PM – 6:00 PM📍 Location: 611 Dundas St East\, Toronto\, ON🎟️ Admission: FREE – First Come\, First Served👥 All Ages Welcome \n\n🔥 Event Overview\nToronto… the 6 is officially BACK!Join Raekwon the Chef live and in-person as he celebrates 30 years of his legendary debut album Only Built 4 Cuban Linx — known worldwide as The Purple Tape. \n📀 Originally released in 1995\, this album redefined street storytelling and set the gold standard for Wu-Tang solo projects. Now\, Raekwon is inviting fans\, hip-hop heads\, and the city to help mark the milestone at his exclusive Purple Factory location in Toronto. \n\n💿 What to Expect\n\n\nMeet & greet with Raekwon \n\n\nThrowback Purple Tape vibes \n\n\nSneak peek of his upcoming album Emperor’s New Clothes (dropping July 18) \n\n\nExclusive merch & surprises \n\n\nA celebration for the culture\, by the culture \n\n\n\n🗣️ Quote from Raekwon\n\n“@Raekwon I CANT. WAIT !!!!!!! THE 6 WE BACK !!!! Don’t miss this event! 1 love ✊🏿 New album 7/18 🔥 #EmperorsNewClothes — see you at @611purplefactory 👐🏿” \n\n\n🧥 Dress Code\nShow love to the era — throw on your Wu gear\, vintage fits\, or come in purple to rep the tape.
URL:https://talkoftoronto.ca/event/raekwon-purple-tape-30-year-celebration-toronto-pop-up-event/
LOCATION:Purple Factory\, 611 Dundas St East\, Toronto\, Ontario\, Canada
CATEGORIES:Hip Hop
ATTACH;FMTTYPE=image/jpeg:https://talkoftoronto.ca/wp-content/uploads/2025/07/Raekwon-Purple-Tape-Celebration-Party-Toronto.jpg
END:VEVENT
END:VCALENDAR