BEGIN:VCALENDAR
VERSION:2.0
PRODID:-//Talk of Toronto - ECPv6.15.20//NONSGML v1.0//EN
CALSCALE:GREGORIAN
METHOD:PUBLISH
X-WR-CALNAME:Talk of Toronto
X-ORIGINAL-URL:https://talkoftoronto.ca
X-WR-CALDESC:Events for Talk of Toronto
REFRESH-INTERVAL;VALUE=DURATION:PT1H
X-Robots-Tag:noindex
X-PUBLISHED-TTL:PT1H
BEGIN:VTIMEZONE
TZID:America/Toronto
BEGIN:DAYLIGHT
TZOFFSETFROM:-0500
TZOFFSETTO:-0400
TZNAME:EDT
DTSTART:20240310T070000
END:DAYLIGHT
BEGIN:STANDARD
TZOFFSETFROM:-0400
TZOFFSETTO:-0500
TZNAME:EST
DTSTART:20241103T060000
END:STANDARD
BEGIN:DAYLIGHT
TZOFFSETFROM:-0500
TZOFFSETTO:-0400
TZNAME:EDT
DTSTART:20250309T070000
END:DAYLIGHT
BEGIN:STANDARD
TZOFFSETFROM:-0400
TZOFFSETTO:-0500
TZNAME:EST
DTSTART:20251102T060000
END:STANDARD
BEGIN:DAYLIGHT
TZOFFSETFROM:-0500
TZOFFSETTO:-0400
TZNAME:EDT
DTSTART:20260308T070000
END:DAYLIGHT
BEGIN:STANDARD
TZOFFSETFROM:-0400
TZOFFSETTO:-0500
TZNAME:EST
DTSTART:20261101T060000
END:STANDARD
END:VTIMEZONE
BEGIN:VEVENT
DTSTART;TZID=America/Toronto:20250208T223000
DTEND;TZID=America/Toronto:20250209T030000
DTSTAMP:20260423T200946
CREATED:20250101T065024Z
LAST-MODIFIED:20250101T071145Z
UID:56621-1739053800-1739070000@talkoftoronto.ca
SUMMARY:Redemption 25 Year Anniversary Bob and Lover's Rock Edition with BABY CHAM & L.U.S.T.
DESCRIPTION:Talk of Toronto Featured Event: Redemption 25 – The Bob & Lover’s Rock Edition\n📅 Date: Saturday\, February 8\, 2025\n⏰ Time: Doors Open at 10:00 PM\n📍 Location: Rebel Night Club\, 11 Polson Street\, Toronto \nToronto\, Are You Ready for Something BIG? \nJoin us as we celebrate 25 years of Redemption—Toronto’s ultimate reggae experience! This milestone edition honors the legends Bob Marley and Dennis Brown\, featuring an unforgettable lineup of reggae stars. \n\nEvent Highlights\n🎶 Live Performances by: \n\nBaby Cham\nL.U.S.T. (Lukie D\, Thriller U\, Singing Melody & Tony Curtis)\nThe Redemption Family & Friends\n\n🎧 Hosted by the dynamic: \n\n@mistapresto & @spexdaboss\n\n🎛️ Incredible DJ Lineup Featuring: \n\n@lookdbandit\n@djwhitebwoy\n@firistic_steenie\n@djtyrone\n@incredibledjshy\n@djoshawn\n@chiplucas_\n@joshuaxlucas\n@blackreactionsound\nAnd many more!\n\n🌟 Themed Tribute: Bob Marley & Lover’s Rock \n💃 A Night to Remember: Vibes\, music\, and celebration of a 25-year legacy! \n\nEvent Details\n\n📸 Share Your Story: Use the hashtag #RedemptionTO to celebrate with us on social media.\n🎟️ Tickets: Secure your spot early—this is a night you don’t want to miss!\n🌟 Don’t Miss: This epic celebration of reggae music and culture! 🎶❤️💛💚\n\n\nRedemption 25 – The Bob & Lover’s Rock Edition\nToronto’s Greatest Reggae Brand\, 25 Years Strong. \nLet the music move you—join us for a reggae story unlike any other.
URL:https://talkoftoronto.ca/event/redemption-2025-toronto-reggae-party-baby-cham/
LOCATION:Rebel Nightclub\, 11 Polson St.\, Toronto\, Ontario\, Canada
CATEGORIES:Reggae & Dancehall
ATTACH;FMTTYPE=image/jpeg:https://talkoftoronto.ca/wp-content/uploads/2025/01/Redemption-25-Year-Anniversary-Bob-and-Lovers-Rock-Edition-with-BABY-CHAM-Toronto-Reggae-Event-Party.jpg
END:VEVENT
END:VCALENDAR