BEGIN:VCALENDAR
VERSION:2.0
PRODID:-//Talk of Toronto - ECPv6.15.20//NONSGML v1.0//EN
CALSCALE:GREGORIAN
METHOD:PUBLISH
X-WR-CALNAME:Talk of Toronto
X-ORIGINAL-URL:https://talkoftoronto.ca
X-WR-CALDESC:Events for Talk of Toronto
REFRESH-INTERVAL;VALUE=DURATION:PT1H
X-Robots-Tag:noindex
X-PUBLISHED-TTL:PT1H
BEGIN:VTIMEZONE
TZID:America/Toronto
BEGIN:DAYLIGHT
TZOFFSETFROM:-0500
TZOFFSETTO:-0400
TZNAME:EDT
DTSTART:20240310T070000
END:DAYLIGHT
BEGIN:STANDARD
TZOFFSETFROM:-0400
TZOFFSETTO:-0500
TZNAME:EST
DTSTART:20241103T060000
END:STANDARD
BEGIN:DAYLIGHT
TZOFFSETFROM:-0500
TZOFFSETTO:-0400
TZNAME:EDT
DTSTART:20250309T070000
END:DAYLIGHT
BEGIN:STANDARD
TZOFFSETFROM:-0400
TZOFFSETTO:-0500
TZNAME:EST
DTSTART:20251102T060000
END:STANDARD
BEGIN:DAYLIGHT
TZOFFSETFROM:-0500
TZOFFSETTO:-0400
TZNAME:EDT
DTSTART:20260308T070000
END:DAYLIGHT
BEGIN:STANDARD
TZOFFSETFROM:-0400
TZOFFSETTO:-0500
TZNAME:EST
DTSTART:20261101T060000
END:STANDARD
END:VTIMEZONE
BEGIN:VEVENT
DTSTART;TZID=America/Toronto:20251107T230000
DTEND;TZID=America/Toronto:20251108T030000
DTSTAMP:20260424T161350
CREATED:20250925T050306Z
LAST-MODIFIED:20250925T050306Z
UID:59966-1762556400-1762570800@talkoftoronto.ca
SUMMARY:Redemption in a 90s Stylie
DESCRIPTION:Redemption in a 90s Stylie – A Reggae Story\n📍 The Pearl Toronto\n📅 Friday\, November 7\, 2025\n🎟️ Tickets start at $30 \n\nYow\, Toronto! This is the reggae party you’ve been waiting for… \n✨ Redemption: A Reggae Story – Inna 90s Stylie! ✨\nMark your calendars because on Friday\, November 7th\, The Pearl Toronto transforms into a time machine taking you straight back to the golden age of reggae and dancehall. \n🔥 What to Expect: \n\nThe legendary Redemption Family DJs spinning all your favorite 90s reggae and dancehall classics.\n90s fashion vibes—come decked out in your best stylie! (But don’t stress\, it’s all love even if you don’t dress the part.)\nA night celebrating reggae from the 90s and beyond—pure vibes\, pure energy.\n\nThis isn’t just another party… it’s a celebration of culture\, music\, and nostalgia. From the riddims to the style\, we’re bringing the past into the present—and it’s gonna be WICKED! \n🎟️ Don’t miss out! Tickets start at $30—secure yours now before they sell out. \n👉 Be there. Feel the vibes. Live the story.
URL:https://talkoftoronto.ca/event/redemption-in-a-90s-stylie-toronto-2025/
LOCATION:The Pearl\, 184 Pearl St\, Toronto\, Ontario\, Canada
CATEGORIES:Reggae & Dancehall
ATTACH;FMTTYPE=image/jpeg:https://talkoftoronto.ca/wp-content/uploads/2025/09/Redemption-in-a-90s-Stylie-toronto-reggae-event-party-nightlife.jpg
END:VEVENT
END:VCALENDAR