BEGIN:VCALENDAR
VERSION:2.0
PRODID:-//Talk of Toronto - ECPv6.15.20//NONSGML v1.0//EN
CALSCALE:GREGORIAN
METHOD:PUBLISH
X-WR-CALNAME:Talk of Toronto
X-ORIGINAL-URL:https://talkoftoronto.ca
X-WR-CALDESC:Events for Talk of Toronto
REFRESH-INTERVAL;VALUE=DURATION:PT1H
X-Robots-Tag:noindex
X-PUBLISHED-TTL:PT1H
BEGIN:VTIMEZONE
TZID:America/Toronto
BEGIN:DAYLIGHT
TZOFFSETFROM:-0500
TZOFFSETTO:-0400
TZNAME:EDT
DTSTART:20240310T070000
END:DAYLIGHT
BEGIN:STANDARD
TZOFFSETFROM:-0400
TZOFFSETTO:-0500
TZNAME:EST
DTSTART:20241103T060000
END:STANDARD
BEGIN:DAYLIGHT
TZOFFSETFROM:-0500
TZOFFSETTO:-0400
TZNAME:EDT
DTSTART:20250309T070000
END:DAYLIGHT
BEGIN:STANDARD
TZOFFSETFROM:-0400
TZOFFSETTO:-0500
TZNAME:EST
DTSTART:20251102T060000
END:STANDARD
BEGIN:DAYLIGHT
TZOFFSETFROM:-0500
TZOFFSETTO:-0400
TZNAME:EDT
DTSTART:20260308T070000
END:DAYLIGHT
BEGIN:STANDARD
TZOFFSETFROM:-0400
TZOFFSETTO:-0500
TZNAME:EST
DTSTART:20261101T060000
END:STANDARD
END:VTIMEZONE
BEGIN:VEVENT
DTSTART;TZID=America/Toronto:20250622T130000
DTEND;TZID=America/Toronto:20250622T210000
DTSTAMP:20260424T062314
CREATED:20250608T191036Z
LAST-MODIFIED:20250608T192614Z
UID:58078-1750597200-1750626000@talkoftoronto.ca
SUMMARY:REGGAE CAFE 2025 - 19 YEAR ANNIVERSARY
DESCRIPTION:Talk of Toronto Featured Event: \n🌴 REGGAE CAFE 2025 – 19 YEAR ANNIVERSARY 🌴\n[B E A C H W E A R A F F A I R]\nSunday\, June 22nd\, 2025\n513 Event Space – 513 Westney Rd S\, Ajax \nToronto’s most beloved reggae experience returns in full tropical flavour!\nReggae Cafe Music Festival x Squinge x Renegade Squad Ent proudly present: \n🌍 LIVE FROM JAMAICA – CHROMATIC LIVE (Creep & JR)\nExperience the electrifying energy of Jamaica’s iconic sound team – CHROMATIC LIVE – headlining an unforgettable night of music and memories. \n\n🥘 THE MUSICAL MENU:\n\nAppetizers: Rock Steady\, Ska\, Studio One\, Oldies but Goodies\nEntrees: Lovers Rock\, Roots & Culture\, Foundation Reggae\nDesserts: Rockers\, R&B\, Slow Jams\, Dancehall\, Throwback Classics\n\n\n🎶 SOUNDTRACK BY:\n\nCHROMATIC LIVE\nSPEXDABOSS\nRenegade Squad\nDJ Wise Guy\nDJ Jagz\nDJ Zee\nDJ Jazzy (Sky Level Sound)\n\n\n🌟 HOSTED BY:\nMowet Ent x M.A.C. Productions x Winedown x Damon B x Dizzy x LCM x FBN Ent\nx British Fun Squad x Lady Aqua + surprise guests! \n\n🏖️ VENUE FEATURES:\n\nIndoor/Outdoor space with capacity for 1\,000 guests\nElevated VIP Booths & Cabanas\nFood vendors on-site\nExclusive Bottle Service & Prepaid VIP options\n\n\n💥 VIP BOOTHS & BOTTLE SERVICE – PREPAY & SAVE!\nThis is more than a party – it’s a movement. Come dressed in your freshest beachwear and celebrate 19 legendary years of Reggae Cafe with music\, good vibes\, and unforgettable energy. \n \nFollow @TalkofToronto & @ReggaeCafe for updates! \n \n#ReggaeCafe2025 #BeachwearAffair #ChromaticLive #AjaxEvents #TorontoReggae #TalkofToronto
URL:https://talkoftoronto.ca/event/reggae-cafe-2025-19-year-anniversary/
LOCATION:513 Event Space\, 513 Westney Rd\, AJAX\, Ontario\, Canada
CATEGORIES:Reggae & Dancehall
ATTACH;FMTTYPE=image/jpeg:https://talkoftoronto.ca/wp-content/uploads/2025/06/Reggae-Cafe-Toronto-19Year-Anniversary-Event-Dancehall.jpg
END:VEVENT
END:VCALENDAR