BEGIN:VCALENDAR
VERSION:2.0
PRODID:-//Talk of Toronto - ECPv6.15.20//NONSGML v1.0//EN
CALSCALE:GREGORIAN
METHOD:PUBLISH
X-WR-CALNAME:Talk of Toronto
X-ORIGINAL-URL:https://talkoftoronto.ca
X-WR-CALDESC:Events for Talk of Toronto
REFRESH-INTERVAL;VALUE=DURATION:PT1H
X-Robots-Tag:noindex
X-PUBLISHED-TTL:PT1H
BEGIN:VTIMEZONE
TZID:America/Toronto
BEGIN:DAYLIGHT
TZOFFSETFROM:-0500
TZOFFSETTO:-0400
TZNAME:EDT
DTSTART:20230312T070000
END:DAYLIGHT
BEGIN:STANDARD
TZOFFSETFROM:-0400
TZOFFSETTO:-0500
TZNAME:EST
DTSTART:20231105T060000
END:STANDARD
BEGIN:DAYLIGHT
TZOFFSETFROM:-0500
TZOFFSETTO:-0400
TZNAME:EDT
DTSTART:20240310T070000
END:DAYLIGHT
BEGIN:STANDARD
TZOFFSETFROM:-0400
TZOFFSETTO:-0500
TZNAME:EST
DTSTART:20241103T060000
END:STANDARD
BEGIN:DAYLIGHT
TZOFFSETFROM:-0500
TZOFFSETTO:-0400
TZNAME:EDT
DTSTART:20250309T070000
END:DAYLIGHT
BEGIN:STANDARD
TZOFFSETFROM:-0400
TZOFFSETTO:-0500
TZNAME:EST
DTSTART:20251102T060000
END:STANDARD
END:VTIMEZONE
BEGIN:VEVENT
DTSTART;TZID=America/Toronto:20241005T220000
DTEND;TZID=America/Toronto:20241006T020000
DTSTAMP:20260423T200103
CREATED:20240917T200001Z
LAST-MODIFIED:20240917T200001Z
UID:56285-1728165600-1728180000@talkoftoronto.ca
SUMMARY:REGGAE JUNKIES
DESCRIPTION:Talk of Toronto Featured Event: REGGAE JUNKIES\nSaturday October 5th\, 2024\n\nPlaying The Best In Lovers Rock\, Old School\, Dancehall & More!\n\nMusic By:\nWhitebwoy \nD’Enforcas\nBlaxz Dun Place\nChris Dubbs\nWiseguy \n\nHosted By\nPresto\n\nTaking Place Inside \nDistrict Lounge \n1211 Kingston Rd – Pickering \n\n\n\nFor VIP Booths Contact 416.839.5694\n#REGGAEJUNKIES
URL:https://talkoftoronto.ca/event/reggae-junkies/
LOCATION:District Lounge\, 1211 Kingston Rd\, Pickering\, Ontario\, Canada
CATEGORIES:Reggae & Dancehall
ATTACH;FMTTYPE=image/png:https://talkoftoronto.ca/wp-content/uploads/2024/09/REGGAE-JUNKIES-Toronto-Events-Nightlife-DJ-Whitebwoy-Denforcas-soca-djs.png
END:VEVENT
END:VCALENDAR