BEGIN:VCALENDAR
VERSION:2.0
PRODID:-//Talk of Toronto - ECPv6.15.20//NONSGML v1.0//EN
CALSCALE:GREGORIAN
METHOD:PUBLISH
X-WR-CALNAME:Talk of Toronto
X-ORIGINAL-URL:https://talkoftoronto.ca
X-WR-CALDESC:Events for Talk of Toronto
REFRESH-INTERVAL;VALUE=DURATION:PT1H
X-Robots-Tag:noindex
X-PUBLISHED-TTL:PT1H
BEGIN:VTIMEZONE
TZID:America/Toronto
BEGIN:DAYLIGHT
TZOFFSETFROM:-0500
TZOFFSETTO:-0400
TZNAME:EDT
DTSTART:20240310T070000
END:DAYLIGHT
BEGIN:STANDARD
TZOFFSETFROM:-0400
TZOFFSETTO:-0500
TZNAME:EST
DTSTART:20241103T060000
END:STANDARD
BEGIN:DAYLIGHT
TZOFFSETFROM:-0500
TZOFFSETTO:-0400
TZNAME:EDT
DTSTART:20250309T070000
END:DAYLIGHT
BEGIN:STANDARD
TZOFFSETFROM:-0400
TZOFFSETTO:-0500
TZNAME:EST
DTSTART:20251102T060000
END:STANDARD
BEGIN:DAYLIGHT
TZOFFSETFROM:-0500
TZOFFSETTO:-0400
TZNAME:EDT
DTSTART:20260308T070000
END:DAYLIGHT
BEGIN:STANDARD
TZOFFSETFROM:-0400
TZOFFSETTO:-0500
TZNAME:EST
DTSTART:20261101T060000
END:STANDARD
END:VTIMEZONE
BEGIN:VEVENT
DTSTART;TZID=America/Toronto:20250329T230000
DTEND;TZID=America/Toronto:20250330T030000
DTSTAMP:20260424T090306
CREATED:20250206T185116Z
LAST-MODIFIED:20250206T185116Z
UID:57495-1743289200-1743303600@talkoftoronto.ca
SUMMARY:ReggaeCafe - GO GO Wine Edition
DESCRIPTION:Talk of Toronto Featured Event \n ReggaeCafe – GO GO Wine Edition\n🚨 Featuring from Jamaica 🇯🇲…\n🔥 COPPERSHOT (Cutty & Kitt) 🔥 \n📆 Saturday\, March 29th\, 2025\n📍 Inside a NEW location! \nGet ready for the ultimate club experience with a twist! 🎶💃🏽🔥 \n🎟 Tickets\, Bottle Specials & Booth Details available Friday! \nFor more info: @reggaecafe @renegadesquad \n🔊 #Reggae #Dancehall #BottleService #Birthdays #InternationalSound
URL:https://talkoftoronto.ca/event/reggaecafe-go-go-wine-edition/
CATEGORIES:Reggae & Dancehall
ATTACH;FMTTYPE=image/jpeg:https://talkoftoronto.ca/wp-content/uploads/2025/02/Reggae-Cafe-Toronto-Dancehall-Event-March-2025.jpg
END:VEVENT
END:VCALENDAR