BEGIN:VCALENDAR
VERSION:2.0
PRODID:-//Talk of Toronto - ECPv6.15.20//NONSGML v1.0//EN
CALSCALE:GREGORIAN
METHOD:PUBLISH
X-WR-CALNAME:Talk of Toronto
X-ORIGINAL-URL:https://talkoftoronto.ca
X-WR-CALDESC:Events for Talk of Toronto
REFRESH-INTERVAL;VALUE=DURATION:PT1H
X-Robots-Tag:noindex
X-PUBLISHED-TTL:PT1H
BEGIN:VTIMEZONE
TZID:America/Toronto
BEGIN:DAYLIGHT
TZOFFSETFROM:-0500
TZOFFSETTO:-0400
TZNAME:EDT
DTSTART:20250309T070000
END:DAYLIGHT
BEGIN:STANDARD
TZOFFSETFROM:-0400
TZOFFSETTO:-0500
TZNAME:EST
DTSTART:20251102T060000
END:STANDARD
BEGIN:DAYLIGHT
TZOFFSETFROM:-0500
TZOFFSETTO:-0400
TZNAME:EDT
DTSTART:20260308T070000
END:DAYLIGHT
BEGIN:STANDARD
TZOFFSETFROM:-0400
TZOFFSETTO:-0500
TZNAME:EST
DTSTART:20261101T060000
END:STANDARD
BEGIN:DAYLIGHT
TZOFFSETFROM:-0500
TZOFFSETTO:-0400
TZNAME:EDT
DTSTART:20270314T070000
END:DAYLIGHT
BEGIN:STANDARD
TZOFFSETFROM:-0400
TZOFFSETTO:-0500
TZNAME:EST
DTSTART:20271107T060000
END:STANDARD
END:VTIMEZONE
BEGIN:VEVENT
DTSTART;TZID=America/Toronto:20260328T213000
DTEND;TZID=America/Toronto:20260329T023000
DTSTAMP:20260423T221327
CREATED:20260211T035408Z
LAST-MODIFIED:20260324T170130Z
UID:61711-1774733400-1774751400@talkoftoronto.ca
SUMMARY:RENAISSANCE - ALL 90s w/DJ Danny D\, 4Korners\, Mista Jiggz\, Agile\, & Vicious
DESCRIPTION:For the third consecutive Spring\, this ALL-STAR line-up of global DJs are teaming up to bring you more 90s musical fire in 2026!\n\n\nBrown Eyes Entertainment in association with DJAgile.com present: \nRENAISSANCE – ALL 90s. ALL Night\nToronto’s Longest Running ALL 90s Party\nSaturday\, March 28\, 2026 \nMusical soundtrack by \nDANNY D (Z1035\, Drive @ 5 & Wayback Lunch) \n4KORNERS (Toronto Raptors Official DJ) \nAGILE (Kardinal Offishall’s Official DJ) \nMISTA JIGGZ (Renaissance Resident) \nVICIOUS (808 Entertainment) \nInside REVIVAL – 783 College St.\, Toronto | Doors @ 9:30pm \n  \n\n\n\n\n\n \n\n\n  \n    🎟 Buy Tickets Now\n  \n\n\nSponsored Ad:
URL:https://talkoftoronto.ca/event/renaissance-all-90s-w-dj-danny-d-4korners-mista-jiggz-agile-vicious/
LOCATION:Revival Event Venue\, 783 College Street\, Toronto\, ON M6G 1C5\, Toronto\, M6G 1C5\, CA
CATEGORIES:Hip-Hop/Rap,Nightlife & Parties,Old School
ATTACH;FMTTYPE=image/jpeg:https://talkoftoronto.ca/wp-content/uploads/2026/02/61711_image.jpg
END:VEVENT
END:VCALENDAR