BEGIN:VCALENDAR
VERSION:2.0
PRODID:-//Talk of Toronto - ECPv6.15.20//NONSGML v1.0//EN
CALSCALE:GREGORIAN
METHOD:PUBLISH
X-WR-CALNAME:Talk of Toronto
X-ORIGINAL-URL:https://talkoftoronto.ca
X-WR-CALDESC:Events for Talk of Toronto
REFRESH-INTERVAL;VALUE=DURATION:PT1H
X-Robots-Tag:noindex
X-PUBLISHED-TTL:PT1H
BEGIN:VTIMEZONE
TZID:America/Toronto
BEGIN:DAYLIGHT
TZOFFSETFROM:-0500
TZOFFSETTO:-0400
TZNAME:EDT
DTSTART:20240310T070000
END:DAYLIGHT
BEGIN:STANDARD
TZOFFSETFROM:-0400
TZOFFSETTO:-0500
TZNAME:EST
DTSTART:20241103T060000
END:STANDARD
BEGIN:DAYLIGHT
TZOFFSETFROM:-0500
TZOFFSETTO:-0400
TZNAME:EDT
DTSTART:20250309T070000
END:DAYLIGHT
BEGIN:STANDARD
TZOFFSETFROM:-0400
TZOFFSETTO:-0500
TZNAME:EST
DTSTART:20251102T060000
END:STANDARD
BEGIN:DAYLIGHT
TZOFFSETFROM:-0500
TZOFFSETTO:-0400
TZNAME:EDT
DTSTART:20260308T070000
END:DAYLIGHT
BEGIN:STANDARD
TZOFFSETFROM:-0400
TZOFFSETTO:-0500
TZNAME:EST
DTSTART:20261101T060000
END:STANDARD
END:VTIMEZONE
BEGIN:VEVENT
DTSTART;TZID=America/Toronto:20250912T223000
DTEND;TZID=America/Toronto:20250913T023000
DTSTAMP:20260424T144040
CREATED:20250905T171017Z
LAST-MODIFIED:20250905T171017Z
UID:59170-1757716200-1757730600@talkoftoronto.ca
SUMMARY:R&B Fest Toronto
DESCRIPTION:R&B Fest Is Coming To Toronto! 🎶\n📅 Date & Time:\nFriday\, September 12\, 2025 — 9:00 PM\nUntil Saturday\, September 13\, 2025 — 2:00 AM\n⏰ Last Entry: 10:30 PM \n📍 Venue:\nThe Mod Club\n722 College St\, Toronto\, ON M6G 1C4\, Canada \n \n\nThe Ultimate Old School R&B Experience\nToronto\, get ready! R&B Fest is bringing the city’s biggest old-school R&B vibes to The Mod Club for one unforgettable night. From 90’s and 2000’s anthems to sing-along classics\, this is a party where memories are made and dance floors stay packed. \n🎧 Our DJs will keep the energy high\, spinning non-stop R&B bangers all night. Expect an immersive club night with dancers\, confetti showers\, inflatable microphones\, and plenty of surprises to keep you moving. \n\nMusic Policy 🎵\nAll your favourite 90’s & 00’s R&B Anthems\, including:\nSEAN PAUL • MISSY ELLIOT • FAT JOE • CASSIE • TWISTA • MASE • MYA • NEXT • MARIO • DONNELL JONES • JOE • AMERIE • KELIS • MARIAH CAREY • YING YANG TWINS • PRETTY RICKY • DRU HILL • JODECI • MS. LAURYN HILL • USHER • TLC • ASHANTI • LUDACRIS • CIARA • NE-YO • JA RULE • GINUWINE • EVE • MONICA • DESTINY’S CHILD … and many more! \n\nImportant Info ℹ️\n\nThis is a DJ club night. Artists pictured in event artwork are not performing live.\n19+ Event (Adults Only). Valid government-issued ID required.\n\n\n✨ Don’t miss your chance to experience the magic of R&B under one roof. Gather your crew\, bring the vibes\, and let’s make it a night Toronto won’t forget! \n📲 Tickets available now — secure yours early! \n#RNBFestToronto #TorontoNightlife #OldSchoolRnB #TalkOfToronto
URL:https://talkoftoronto.ca/event/rnb-fest-toronto-2025/
LOCATION:The Mod Club\, 722 College St\, Toronto\, Ontario\, M6G 1C4\, Canada
CATEGORIES:R&B
ATTACH;FMTTYPE=image/jpeg:https://talkoftoronto.ca/wp-content/uploads/2025/09/RB-Fest-Is-Coming-To-Toronto-2025.jpg
END:VEVENT
END:VCALENDAR