BEGIN:VCALENDAR
VERSION:2.0
PRODID:-//Talk of Toronto - ECPv6.15.20//NONSGML v1.0//EN
CALSCALE:GREGORIAN
METHOD:PUBLISH
X-WR-CALNAME:Talk of Toronto
X-ORIGINAL-URL:https://talkoftoronto.ca
X-WR-CALDESC:Events for Talk of Toronto
REFRESH-INTERVAL;VALUE=DURATION:PT1H
X-Robots-Tag:noindex
X-PUBLISHED-TTL:PT1H
BEGIN:VTIMEZONE
TZID:America/Toronto
BEGIN:DAYLIGHT
TZOFFSETFROM:-0500
TZOFFSETTO:-0400
TZNAME:EDT
DTSTART:20240310T070000
END:DAYLIGHT
BEGIN:STANDARD
TZOFFSETFROM:-0400
TZOFFSETTO:-0500
TZNAME:EST
DTSTART:20241103T060000
END:STANDARD
BEGIN:DAYLIGHT
TZOFFSETFROM:-0500
TZOFFSETTO:-0400
TZNAME:EDT
DTSTART:20250309T070000
END:DAYLIGHT
BEGIN:STANDARD
TZOFFSETFROM:-0400
TZOFFSETTO:-0500
TZNAME:EST
DTSTART:20251102T060000
END:STANDARD
BEGIN:DAYLIGHT
TZOFFSETFROM:-0500
TZOFFSETTO:-0400
TZNAME:EDT
DTSTART:20260308T070000
END:DAYLIGHT
BEGIN:STANDARD
TZOFFSETFROM:-0400
TZOFFSETTO:-0500
TZNAME:EST
DTSTART:20261101T060000
END:STANDARD
END:VTIMEZONE
BEGIN:VEVENT
DTSTART;TZID=America/Toronto:20251004T200000
DTEND;TZID=America/Toronto:20251005T030000
DTSTAMP:20260424T062542
CREATED:20251003T212649Z
LAST-MODIFIED:20251003T212649Z
UID:60259-1759608000-1759633200@talkoftoronto.ca
SUMMARY:R&B Karaoke + Live Jazz
DESCRIPTION:🎤✨ Talk of Toronto Featured Event\nAll I Need R&B – Karaoke + Live Jazz at Acqua Supper Club\n📅 Saturday\, October 4th📍 Acqua Supper Club\, Toronto \n\n🔥 Get ready for a night of soulful vibes\, smooth vocals\, and unforgettable live performances! \n🎶 Event Schedule \n\n\n8PM – 11PM → Karaoke + Live Performances 🎤 \n\n\n11PM – 12AM → Live Jazz Band 🎷 \n\n\n12AM Onward → R&B After Party with DJ Andre Clarke & Perfect Storm 🎧 \n\n\n\n💸 Cover \n\n\nFREE Entry before 11PM \n\n\n$10 after 12AM \n\n\n\n✨ Whether you want to hit the mic\, soak in the sounds of live jazz\, or dance all night to the best in R&B\, this is the place to be. \n🍸 Enjoy Acqua’s signature cocktails\, great vibes\, and a night celebrating Toronto’s love for R&B
URL:https://talkoftoronto.ca/event/rnb-karaoke-live-jazz-acqua-oct-2025/
LOCATION:Acqua Supper Club\, 50 Prince Edward Island Crescent - CNE Grounds\, Toronto\, Ontario\, Canada
CATEGORIES:Concerts & Live Music,R&B
ATTACH;FMTTYPE=image/jpeg:https://talkoftoronto.ca/wp-content/uploads/2025/10/rnb-karaoke-acqua-2025.jpg
END:VEVENT
END:VCALENDAR