BEGIN:VCALENDAR
VERSION:2.0
PRODID:-//Talk of Toronto - ECPv6.15.20//NONSGML v1.0//EN
CALSCALE:GREGORIAN
METHOD:PUBLISH
X-WR-CALNAME:Talk of Toronto
X-ORIGINAL-URL:https://talkoftoronto.ca
X-WR-CALDESC:Events for Talk of Toronto
REFRESH-INTERVAL;VALUE=DURATION:PT1H
X-Robots-Tag:noindex
X-PUBLISHED-TTL:PT1H
BEGIN:VTIMEZONE
TZID:America/Toronto
BEGIN:DAYLIGHT
TZOFFSETFROM:-0500
TZOFFSETTO:-0400
TZNAME:EDT
DTSTART:20240310T070000
END:DAYLIGHT
BEGIN:STANDARD
TZOFFSETFROM:-0400
TZOFFSETTO:-0500
TZNAME:EST
DTSTART:20241103T060000
END:STANDARD
BEGIN:DAYLIGHT
TZOFFSETFROM:-0500
TZOFFSETTO:-0400
TZNAME:EDT
DTSTART:20250309T070000
END:DAYLIGHT
BEGIN:STANDARD
TZOFFSETFROM:-0400
TZOFFSETTO:-0500
TZNAME:EST
DTSTART:20251102T060000
END:STANDARD
BEGIN:DAYLIGHT
TZOFFSETFROM:-0500
TZOFFSETTO:-0400
TZNAME:EDT
DTSTART:20260308T070000
END:DAYLIGHT
BEGIN:STANDARD
TZOFFSETFROM:-0400
TZOFFSETTO:-0500
TZNAME:EST
DTSTART:20261101T060000
END:STANDARD
END:VTIMEZONE
BEGIN:VEVENT
DTSTART;TZID=America/Toronto:20250705T130000
DTEND;TZID=America/Toronto:20250705T190000
DTSTAMP:20260423T211027
CREATED:20250704T201258Z
LAST-MODIFIED:20250704T202053Z
UID:58246-1751720400-1751742000@talkoftoronto.ca
SUMMARY:Sandz Caribbean Music Festival – Toronto 2025
DESCRIPTION:🎉 Sandz Caribbean Music Festival – Toronto 2025 \nHosted by: Milk + Honey Eventz & Supreme LTD\n📅 Date: Saturday\, July 5\, 2025\n🕐 Time: 1 PM – 7 PM (Timezone GMT‑5 / ET) \n📍 Location: 50 Esna Park Drive\, Markham\, Ontario (exact venue revealed post‑RSVP) \n \n🍹 Ticket Info (includes mixed drinks): \n\nGeneral Admission: CAD 90 (ends July 4 at 8 PM)\nCouples Ticket (2 people): CAD 160\nTable Packages:\n\n4‑person: CAD 900 (2 bottles)\n5‑person: CAD 1\,250 (3 bottles)\n6‑person: CAD 1\,550 (4 bottles)\n\n\n\n🎟️ Note: \n\nNo VIP tickets available—only inclusive mixed drinks packages.\n\n\n📌 Highlights & What to Expect\n\nA flagship Caribbean‑inspired summer party—part of the popular “Sandz” global series\nExperience live performances\, DJ sets\, vibrant energy\, tropical beats\, and delicious island‑style mixed drinks\nDress code: stylish summer attire (suggest light‑coloured or festival‑ready looks)\n\n\n📲 How to Attend\n\nGrab your ticket via Ticketgateway: “SandzToronto” listing\nRSVP to unlock the specific event venue in Markham\nBring valid ID—this is a 19+ event\nDrinks\, dancing\, and good vibes await!\n\n\n✅ Why You Should Go\n\nCelebrate the spirit of summer with Caribbean flair just outside Toronto\nPerfect for groups—table packages make it a fun shared experience\nA mix of tropical music\, live entertainment\, and top-tier venue setting\n\n\nDon’t miss out—this is one of the most anticipated Caribbean summer events in the GTA! 🎶\nGrab your spot\, enjoy the breeze\, and immerse yourself in a full 6‑hour celebration of culture and connection.
URL:https://talkoftoronto.ca/event/sandz-toronto-2025/
LOCATION:50 Esna Park Drive\, 50 Esna Park Drive\, Markham\, Ontario\, Canada
CATEGORIES:Reggae & Dancehall
ATTACH;FMTTYPE=image/jpeg:https://talkoftoronto.ca/wp-content/uploads/2025/07/sandz-toronto-reggae-music-festival-event-2025.jpg
END:VEVENT
END:VCALENDAR