BEGIN:VCALENDAR
VERSION:2.0
PRODID:-//Talk of Toronto - ECPv6.15.20//NONSGML v1.0//EN
CALSCALE:GREGORIAN
METHOD:PUBLISH
X-WR-CALNAME:Talk of Toronto
X-ORIGINAL-URL:https://talkoftoronto.ca
X-WR-CALDESC:Events for Talk of Toronto
REFRESH-INTERVAL;VALUE=DURATION:PT1H
X-Robots-Tag:noindex
X-PUBLISHED-TTL:PT1H
BEGIN:VTIMEZONE
TZID:America/Toronto
BEGIN:DAYLIGHT
TZOFFSETFROM:-0500
TZOFFSETTO:-0400
TZNAME:EDT
DTSTART:20240310T070000
END:DAYLIGHT
BEGIN:STANDARD
TZOFFSETFROM:-0400
TZOFFSETTO:-0500
TZNAME:EST
DTSTART:20241103T060000
END:STANDARD
BEGIN:DAYLIGHT
TZOFFSETFROM:-0500
TZOFFSETTO:-0400
TZNAME:EDT
DTSTART:20250309T070000
END:DAYLIGHT
BEGIN:STANDARD
TZOFFSETFROM:-0400
TZOFFSETTO:-0500
TZNAME:EST
DTSTART:20251102T060000
END:STANDARD
BEGIN:DAYLIGHT
TZOFFSETFROM:-0500
TZOFFSETTO:-0400
TZNAME:EDT
DTSTART:20260308T070000
END:DAYLIGHT
BEGIN:STANDARD
TZOFFSETFROM:-0400
TZOFFSETTO:-0500
TZNAME:EST
DTSTART:20261101T060000
END:STANDARD
END:VTIMEZONE
BEGIN:VEVENT
DTSTART;TZID=America/Toronto:20250905T220000
DTEND;TZID=America/Toronto:20250906T030000
DTSTAMP:20260424T023811
CREATED:20250305T222649Z
LAST-MODIFIED:20250305T224459Z
UID:57867-1757109600-1757127600@talkoftoronto.ca
SUMMARY:Sizzla Live in Concert – Toronto!
DESCRIPTION:Talk of Toronto Featured Event \nReggae Legend Sizzla Live in Concert – Toronto! 🌟🔥\nIt’s official! The legendary Sizzla Kalonji is bringing his electrifying performance to Toronto for one night only! Known for his powerful lyrics\, unmatched stage presence\, and deep influence on reggae and dancehall music\, Sizzla has solidified his place as one of the most respected and celebrated artists in the genre. \nWith a career spanning over three decades\, Sizzla has released more than 50 albums\, blending conscious reggae with high-energy dancehall to create a sound that resonates across generations. His music speaks to themes of love\, resilience\, spirituality\, and social justice\, making him a true voice of the people. \n🎶 Expect to hear some of his biggest anthems live\, including:🔥 Thank U Mama🔥 Just One of Those Days (Dry Cry)🔥 Solid as a Rock🔥 Give Me a Try🔥 Holding Firm🔥 Black Woman & Child🔥 Rise to the Occasion… and many more classics that have defined reggae music! \n🎤 Event Details:📅 Date: Friday\, September 5\, 2025⏰ Time: 10:30 PM📍 Venue: REBEL – 11 Polson Street\, Toronto\, ON M5A 1A4 \n🎟️ Early Bird Tickets Now on Sale! Secure yours before prices go up. \nThis is more than just a concert—it’s a celebration of reggae culture and a chance to witness a true icon perform live. Don’t miss out! \nTag your crew\, grab your tickets\, and get ready for a night of pure reggae vibes! \n \n👉 Tag your crew\, grab your tickets\, and let’s make history! \n#SizzlaLiveToronto #ReggaeLegend #TorontoConcert #LiveMusic #TalkofToronto #SizzlaKalonji #ConsciousReggae \nBrought to you by BMW Promo & Judgment Yard
URL:https://talkoftoronto.ca/event/sizzla-live-in-concert-toronto/
LOCATION:Rebel Nightclub\, 11 Polson St.\, Toronto\, Ontario\, Canada
CATEGORIES:Reggae & Dancehall
ATTACH;FMTTYPE=image/jpeg:https://talkoftoronto.ca/wp-content/uploads/2025/03/Sizzla-Live-in-Concert-Reggae-Event-Toronto-2025-Rebel-Nightclub.jpg
END:VEVENT
END:VCALENDAR