BEGIN:VCALENDAR
VERSION:2.0
PRODID:-//Talk of Toronto - ECPv6.15.20//NONSGML v1.0//EN
CALSCALE:GREGORIAN
METHOD:PUBLISH
X-WR-CALNAME:Talk of Toronto
X-ORIGINAL-URL:https://talkoftoronto.ca
X-WR-CALDESC:Events for Talk of Toronto
REFRESH-INTERVAL;VALUE=DURATION:PT1H
X-Robots-Tag:noindex
X-PUBLISHED-TTL:PT1H
BEGIN:VTIMEZONE
TZID:America/Toronto
BEGIN:DAYLIGHT
TZOFFSETFROM:-0500
TZOFFSETTO:-0400
TZNAME:EDT
DTSTART:20240310T070000
END:DAYLIGHT
BEGIN:STANDARD
TZOFFSETFROM:-0400
TZOFFSETTO:-0500
TZNAME:EST
DTSTART:20241103T060000
END:STANDARD
BEGIN:DAYLIGHT
TZOFFSETFROM:-0500
TZOFFSETTO:-0400
TZNAME:EDT
DTSTART:20250309T070000
END:DAYLIGHT
BEGIN:STANDARD
TZOFFSETFROM:-0400
TZOFFSETTO:-0500
TZNAME:EST
DTSTART:20251102T060000
END:STANDARD
BEGIN:DAYLIGHT
TZOFFSETFROM:-0500
TZOFFSETTO:-0400
TZNAME:EDT
DTSTART:20260308T070000
END:DAYLIGHT
BEGIN:STANDARD
TZOFFSETFROM:-0400
TZOFFSETTO:-0500
TZNAME:EST
DTSTART:20261101T060000
END:STANDARD
END:VTIMEZONE
BEGIN:VEVENT
DTSTART;TZID=America/Toronto:20251227T230000
DTEND;TZID=America/Toronto:20251228T023000
DTSTAMP:20260424T034541
CREATED:20251103T195408Z
LAST-MODIFIED:20251103T195422Z
UID:61371-1766876400-1766889000@talkoftoronto.ca
SUMMARY:SOCA OR DIE 2025: JAB DECISIONS | by Dr. Jay
DESCRIPTION:SOCA OR DIE: JAB DECISIONS 🇨🇦 | TORONTO\n🔥 TORONTO! THE JAB DECISIONS TOUR IS MAKING ITS FINAL STOP OF 2025! 🔥 \nGet ready to close out the year with pure\, unadulterated Caribbean energy as SOCA OR DIE returns to The Phoenix for one unforgettable night of JAB madness! 🇻🇨🇬🇩🇹🇹 \nThis is the ultimate Grenadian takeover\, bringing the islands to the 6ix for a session of non-stop vibes\, grease\, and raw Soca power. \n  \nFEATURING THE JAB KINGS LIVE:\n\n👑 The Grenadian Bad Boy V’GHN (🎤 Jab Decisions\, Trouble in the Morning)\n🔨 TERRA D GOVERNOR (🎤 Jab Supremacy\, Bag Ah Sugar)\n💣 LIL KERRY (🎤 Bury All\, Dynamite)\n🦁 DRED LION (🎤 Grease It)\n\nWhether you’re a hardcore Jab lover or just need to Fete like it’s Carnival in December\, this is the final decision you need to make for 2025! \n\n  \nEVENT DETAILS\n\n📅 Date: Saturday\, December 27th\, 2025\n📍 Venue: The Phoenix Concert Theatre\, Toronto\n🚪 Doors Open: 10:00 PM\n🎤 Showtime: 12:30 AM\n\n🚨 THIS EVENT WILL SELL OUT. DON’T WAIT! 🚨 \n➡️ Get Your Tickets NOW!\n  \nNOTE: 19+ Event // Photo ID Required // Coat Check Available \n#SocaOrDie #JabDecisions #TorontoSoca #JabIsLife #VGHN #TerraDGovernor #LilKerry #DredLion #ThePhoenix #SocaMusic #TorontoNightlife #CaribbeanVibes #DrJay #JabDecisionsTour #TorontoFete #Grenada 🇨🇦🇻🇨🇬🇩
URL:https://talkoftoronto.ca/event/soca-or-die-2025-jab-decisions-by-dr-jay/
LOCATION:Phoenix Concert Theatre\, 410 Sherbourne Street\, Toronto\, Ontario\, M5X 1K2\, Canada
CATEGORIES:Nightlife & Parties,Soca
ATTACH;FMTTYPE=image/jpeg:https://talkoftoronto.ca/wp-content/uploads/2025/11/SOCA-OR-DIE-December-2025-JAB-DECISIONS-Dr-Jay-Toronto-Soca-Events.jpg
END:VEVENT
END:VCALENDAR