BEGIN:VCALENDAR
VERSION:2.0
PRODID:-//Talk of Toronto - ECPv6.15.20//NONSGML v1.0//EN
CALSCALE:GREGORIAN
METHOD:PUBLISH
X-WR-CALNAME:Talk of Toronto
X-ORIGINAL-URL:https://talkoftoronto.ca
X-WR-CALDESC:Events for Talk of Toronto
REFRESH-INTERVAL;VALUE=DURATION:PT1H
X-Robots-Tag:noindex
X-PUBLISHED-TTL:PT1H
BEGIN:VTIMEZONE
TZID:America/Toronto
BEGIN:DAYLIGHT
TZOFFSETFROM:-0500
TZOFFSETTO:-0400
TZNAME:EDT
DTSTART:20230312T070000
END:DAYLIGHT
BEGIN:STANDARD
TZOFFSETFROM:-0400
TZOFFSETTO:-0500
TZNAME:EST
DTSTART:20231105T060000
END:STANDARD
BEGIN:DAYLIGHT
TZOFFSETFROM:-0500
TZOFFSETTO:-0400
TZNAME:EDT
DTSTART:20240310T070000
END:DAYLIGHT
BEGIN:STANDARD
TZOFFSETFROM:-0400
TZOFFSETTO:-0500
TZNAME:EST
DTSTART:20241103T060000
END:STANDARD
BEGIN:DAYLIGHT
TZOFFSETFROM:-0500
TZOFFSETTO:-0400
TZNAME:EDT
DTSTART:20250309T070000
END:DAYLIGHT
BEGIN:STANDARD
TZOFFSETFROM:-0400
TZOFFSETTO:-0500
TZNAME:EST
DTSTART:20251102T060000
END:STANDARD
END:VTIMEZONE
BEGIN:VEVENT
DTSTART;TZID=America/Toronto:20241013T210000
DTEND;TZID=America/Toronto:20241014T020000
DTSTAMP:20260423T212609
CREATED:20240917T213556Z
LAST-MODIFIED:20240917T214210Z
UID:56293-1728853200-1728871200@talkoftoronto.ca
SUMMARY:Somebody Anybody R&B Skate & Social Edition – Thanksgiving Sunday
DESCRIPTION:Talk of Toronto Featured Event:  Somebody Anybody R&B Skate & Social Edition – Thanksgiving Sunday 🕺🏾🛼\nGet ready for Toronto’s hottest R&B event this Thanksgiving Sunday! For one night only\, the signature Somebody Anybody experience is taking over with a Late Night Skate + SBAB Brunch Edition\, bringing the ultimate R&B vibes for a night of smooth skating and a high-energy party. \n\nEvent Details:\n\nDate: Sunday\, October 13th\, 2024\nTime: 9:00 PM – 3:00 AM\nLocation: Roller Pony\, 75 Westmore Dr.\, Toronto\n\n \n \n\nEvent Schedule:\n\nR&B Skate: 9:00 PM – 11:00 PM\nGroove to your favorite R&B tunes while roller skating under the lights. Limited skate tickets are available\, so grab yours now for an unforgettable night on wheels!\nR&B Party: 11:00 PM – 2:00 AM\nNot a skater? No worries! After the skate session\, we’re bringing the full Somebody Anybody R&B party energy\, where you can vibe and dance the night away with the city’s best DJs.\n\n\nTickets On Sale Now!\nThis event is expected to sell out fast\, so make sure you secure your spot today. Don’t miss out on this incredible night of skating\, partying\, and pure R&B vibes! \nCLICK HERE FOR TICKETS\nFor bottle service\, VIP\, and event info\, contact:\n📞 437-981-1742 \n\nSomebody Anybody – Thanksgiving Sunday is the ultimate way to celebrate the long weekend. Whether you’re rolling on skates or just vibing to the music\, it’s going to be a night to remember! \nFollow @sbabbrunch for event updates and more. \n\nTalkofToronto.ca – Your Guide to the City’s Best Events
URL:https://talkoftoronto.ca/event/somebody-anybody-rb-skate-social-edition-thanksgiving-sunday/
LOCATION:Rollerpony\, 75 Westmore Drive #Unit B\, Toronto\, Ontario\, M9V 3Y6\, Canada
CATEGORIES:R&B
ATTACH;FMTTYPE=image/jpeg:https://talkoftoronto.ca/wp-content/uploads/2024/09/Somebody-Anybody-Toronto-Event-Nightlife-RB-events-Late-Night-Skate-Matt-Mogul.jpg
END:VEVENT
END:VCALENDAR