BEGIN:VCALENDAR
VERSION:2.0
PRODID:-//Talk of Toronto - ECPv6.15.20//NONSGML v1.0//EN
CALSCALE:GREGORIAN
METHOD:PUBLISH
X-WR-CALNAME:Talk of Toronto
X-ORIGINAL-URL:https://talkoftoronto.ca
X-WR-CALDESC:Events for Talk of Toronto
REFRESH-INTERVAL;VALUE=DURATION:PT1H
X-Robots-Tag:noindex
X-PUBLISHED-TTL:PT1H
BEGIN:VTIMEZONE
TZID:America/Toronto
BEGIN:DAYLIGHT
TZOFFSETFROM:-0500
TZOFFSETTO:-0400
TZNAME:EDT
DTSTART:20250309T070000
END:DAYLIGHT
BEGIN:STANDARD
TZOFFSETFROM:-0400
TZOFFSETTO:-0500
TZNAME:EST
DTSTART:20251102T060000
END:STANDARD
BEGIN:DAYLIGHT
TZOFFSETFROM:-0500
TZOFFSETTO:-0400
TZNAME:EDT
DTSTART:20260308T070000
END:DAYLIGHT
BEGIN:STANDARD
TZOFFSETFROM:-0400
TZOFFSETTO:-0500
TZNAME:EST
DTSTART:20261101T060000
END:STANDARD
BEGIN:DAYLIGHT
TZOFFSETFROM:-0500
TZOFFSETTO:-0400
TZNAME:EDT
DTSTART:20270314T070000
END:DAYLIGHT
BEGIN:STANDARD
TZOFFSETFROM:-0400
TZOFFSETTO:-0500
TZNAME:EST
DTSTART:20271107T060000
END:STANDARD
END:VTIMEZONE
BEGIN:VEVENT
DTSTART;TZID=America/Toronto:20260419T130000
DTEND;TZID=America/Toronto:20260419T200000
DTSTAMP:20260423T194541
CREATED:20260321T233801Z
LAST-MODIFIED:20260323T005026Z
UID:61896-1776603600-1776628800@talkoftoronto.ca
SUMMARY:Somebody Anybody: The Ultimate R&B Brunch & Day Party at Lavelle
DESCRIPTION:Somebody Anybody: The Ultimate R&B Brunch & Day Party at Lavelle (April Edition)\nToronto’s favorite Sunday ritual is back. On Sunday\, April 19\, 2026\, the Somebody Anybody (SBAB) crew returns to the sky for the April Edition of their signature R&B Brunch and Day Party. Hosted at the breathtaking Lavelle\, this is where King West’s social scene meets soulful vibes. \nWhether you’re there for the gourmet brunch or the high-energy afternoon party\, SBAB is designed for anybody looking for a premium Sunday experience. \nEvent Details: The Sunday Standard\n\n\nDate: Sunday\, April 19\, 2026 \n\n\nVenue: Lavelle – 627 King St W\, Toronto \n\n\nVibe: 100% R&B and Socializing \n\n\nSetting: Enclosed\, heated rooftop (Rain or shine\, the views are guaranteed) \n\n\n\nThe Itinerary: From Brunch to Bottles\nThe SBAB experience is split into two distinct segments. Choose your vibe—or stay for both. \n1. The Brunch (1:00 PM – 4:00 PM)\nKick off your Sunday with a curated brunch menu overlooking the Toronto skyline. \n\n\nReservations: A brunch deposit ticket via Eventbrite is required to secure your table. \n\n\nPerk: Guests with brunch reservations are welcome to stay and transition into the Day Party at no extra cost. \n\n\n2. The Day Party (4:00 PM – 8:00 PM)\nAs the sun begins to set\, the energy shifts. The R&B hits get louder\, the drinks flow faster\, and the rooftop transforms into the city’s most exclusive day club. \n\n\nTickets: Advance tickets are required for those joining after 4:00 PM. \n\n\n\nVIP Booths & Celebrations\nLooking to level up? SBAB offers premium VIP Booths perfect for birthdays or group outings. \n\n\nCapacity: Accommodates 7–10 guests. \n\n\nBenefit: All VIP guests receive line bypass for seamless entry. \n\n\nHow to Book: A seating fee deposit is required. Contact the team directly at (437) 981-1742 to lock in your booth. \n\n\nLooking for the best “Sunday Funday” in Toronto? Lavelle’s rooftop is heated and fully enclosed for April\, making it the premier destination for R&B lovers regardless of the spring weather. \n\nImportant Information\n\n\nRefund Policy: Please note there are no refunds within 5 days of the event. \n\n\nFollow the Movement: Check out @TalkofToronto @SBABBrunch on Instagram for a look at past events. \n\n\n[Get Your Tickets & Brunch Deposits Here] \n\n\n\n\n\n\n \n\n\n  \n    🎟 Buy Tickets Now
URL:https://talkoftoronto.ca/event/somebody-anybody-the-ultimate-rb-brunch-day-party-at-lavelle/
LOCATION:Lavelle\, 627 King Street West\, Toronto\, ON M5V 1M5\, Toronto\, M5V 1M5\, CA
CATEGORIES:Nightlife & Parties,R&B
ATTACH;FMTTYPE=image/jpeg:https://talkoftoronto.ca/wp-content/uploads/2026/03/61896_image.jpg
END:VEVENT
END:VCALENDAR